Workbook

Sheet Suhrnny list
H1: Súhrnný list stavby
B3: Názov stavby: | F3: Stavba : PREVÁDZKOVÁ BUDOVA DŽK - STANICA ČERMEĽ | K3: KS :
B4: Miesto stavby: | F4: Detská železnica Košice, ČERMEĽ
B6: Odberateľ: | F6: OZ DŽK, o.z. | K6: IČO: | L6: 42241189
B7: Adresa: | F7: Aténska 15 | K7: DRČ:
F8: 04013 Košice
H10: Rekapitulácia nákladov stavby v EUR
A11: Por. | B11: Hl. | C11: Náklady na | H11: Náklady investičnej výstavby | K11: Náklady z | L11: Celkové
A12: č. | H12: stavebná časť | I12: technolog. časť | J12: celkom | K12: inv. prostried. | L12: náklady
A13: 1 | B13: A | C13: Projektové a prieskumné práce | H13: 0 | I13: 0 | J13: =H13+I13 -> 0 | K13: 0 | L13: =J13+K13 -> 0
A14: 2 | B14: B | C14: Prevádzkové súbory | H14: =H15+H16 -> 0 | I14: =I15+I16 -> 0 | J14: =H14+I14 -> 0 | K14: =K15+K16 -> 0 | L14: =J14+K14 -> 0
A15: 3 | D15: z toho: | F15: dodávky | H15: 0 | I15: 0 | J15: =H15+I15 -> 0 | K15: 0 | L15: =J15+K15 -> 0
A16: 4 | F16: montáž a dopl. náklady | H16: 0 | I16: 0 | J16: =H16+I16 -> 0 | K16: 0 | L16: =J16+K16 -> 0
A17: 5 | B17: C | C17: Stavebné objekty | H17: =Zoznam!O12 -> 0 | I17: =I18+I19 -> 0 | J17: =H17+I17 -> 0 | K17: =K18+K19 -> 0 | L17: =J17+K17 -> 0
A18: 6 | D18: z toho: | F18: základné náklady | H18: =H17 -> 0 | I18: 0 | J18: =H18+I18 -> 0 | K18: 0 | L18: =J18+K18 -> 0
A19: 7 | F19: HZS a dopl. náklady | H19: 0 | I19: 0 | J19: =H19+I19 -> 0 | K19: 0 | L19: =J19+K19 -> 0
A20: 8 | B20: D | C20: Stroje, zariadenie, inventár | H20: 0 | I20: 0 | J20: =H20+I20 -> 0 | K20: 0 | L20: =J20+K20 -> 0
A21: 9 | B21: E | C21: Umelecké diela | H21: 0 | I21: 0 | J21: =H21+I21 -> 0 | K21: 0 | L21: =J21+K21 -> 0
A22: 10 | B22: F | C22: Vedľajšie náklady | H22: =Zoznam!P12 -> 0 | I22: 0 | J22: =H22+I22 -> 0 | K22: 0 | L22: =J22+K22 -> 0
A23: 11 | B23: G | C23: Ostatné náklady | H23: =Zoznam!R12 -> 0 | I23: 0 | J23: =H23+I23 -> 0 | K23: 0 | L23: =J23+K23 -> 0
A24: 12 | B24: H | C24: Rezerva | H24: 0 | I24: 0 | J24: =H24+I24 -> 0 | K24: 0 | L24: =J24+K24 -> 0
A25: 13 | B25: I | C25: Ostatné investície | H25: 0 | I25: 0 | J25: =H25+I25 -> 0 | K25: 0 | L25: =J25+K25 -> 0
A26: 14 | B26: J | C26: Nehmotný investičný majetok | H26: 0 | I26: 0 | J26: =H26+I26 -> 0 | K26: 0 | L26: =J26+K26 -> 0
A27: 15 | B27: K | C27: Prevádzkové náklady | H27: 0 | I27: 0 | J27: =H27+I27 -> 0 | K27: 0 | L27: =J27+K27 -> 0
A28: 16 | B28: L | C28: Kompletačná činnosť | H28: 0 | I28: 0 | J28: =H28+I28 -> 0 | K28: 0 | L28: =J28+K28 -> 0
A29: 17 | C29: Celkové náklady | H29: =H13+H14+H17+H20+H21+H22+H23+H24+H25+H26+H27+H28 -> 0 | I29: =I13+I14+I17+I20+I21+I22+I23+I24+I25+I26+I27+I28 -> 0 | J29: =H29+I29 -> 0 | K29: =K13+K14+K17+K20+K21+K22+K23+K24+K25+K26+K27+K28 -> 0 | L29: =J29+K29 -> 0
A30: 18 | C30: DPH | H30: 0.2 | I30: z čiastky | J30: =SUM(J29) -> 0 | L30: =J30*H30 -> 0
H31: 0 | I31: z čiastky | J31: =L29-J30 -> 0 | L31: =ROUND(J31*H31,2) -> 0
A32: 19 | C32: Cena celkom s DPH | L32: =L29+L30+L31 -> 0
A33: Spracoval: | D33: Ing. Milan GAJDOŠ, stavebný cenár | H33: Projektant: | K33: Odberateľ:
I34: MGR. ART. TOMÁŠ HAVIAR | L34: DETSKÁ ŽELEZNICA KOŠICE
A35: Dňa: | D35: 43158 | H35: IČO: | I35: DRČ: | K35: IČO: 42241189 | L35: DRČ:
A37: Adresa: | E37: Južná trieda 43 | H37: Adresa: | I37: Gogoľova 3939/18 | K37: Adresa: Aténska 15
E38: 040 01 | F38: Košice | I38: 03601 MARTIN | K38: 040 13 | L38: Košice
A41: Pečiatka a podpis | H41: Pečiatka a podpis | K41: Pečiatka a podpis

Sheet Zoznam
A1: Názov stavby, objektu, časti alebo PS | B1: KS : | C1: SO / PS | D1: HSV | F1: PSV | H1: M-CE | J1: Iné | L1: ZRN | N1: ORN | O1: ZRN+ORN | P1: NUS | Q1: IN | R1: ON | S1: Spolu bez DPH | T1: DPH - 1.sadzba | U1: DPH - 2.sadzba | V1: Spolu s DPH | W1: Prípočet - odpočet | X1: Hl. A - Projektové a prieskumné práce | AA1: Hl. B - Prevádzkové súbory - dodávky | AD1: Hl. B - Prevádzkové súbory - montáž a dopl. náklady | AG1: Hl. C - Stavebné objekty - základné náklady | AJ1: Hl. C - Stavebné objekty - HZS a dopl. náklady | AM1: Hl. D - Stroje, zariadenie, inventár | AP1: Hl. E - Umelecké diela | AS1: Hl. F - Vedľajšie náklady | AV1: Hl. G - Ostatné náklady | AY1: Hl. H - Rezerva | BB1: Hl. I - Ostatné investície | BE1: Hl. J - Nehmotný investičný majetok | BH1: Hl. K - Prevádzkové náklady | BK1: Hl. L - Kompletačná činnosť | BN1: DPH - 1.sadzba | BO1: DPH - 2.sadzba
D2: montáž | E2: dodávka | F2: montáž | G2: dodávka | H2: montáž | I2: dodávka | J2: montáž | K2: dodávka | L2: montáž | M2: dodávka | S2: spolu | V2: spolu | X2: staveb.časť | Y2: technol. časť | Z2: náklady z IP | AA2: staveb.časť | AB2: technol. časť | AC2: náklady z IP | AD2: staveb.časť | AE2: technol. časť | AF2: náklady z IP | AG2: staveb.časť | AH2: technol. časť | AI2: náklady z IP | AJ2: staveb.časť | AK2: technol. časť | AL2: náklady z IP | AM2: staveb.časť | AN2: technol. časť | AO2: náklady z IP | AP2: staveb.časť | AQ2: technol. časť | AR2: náklady z IP | AS2: staveb.časť | AT2: technol. časť | AU2: náklady z IP | AV2: staveb.časť | AW2: technol. časť | AX2: náklady z IP | AY2: staveb.časť | AZ2: technol. časť | BA2: náklady z IP | BB2: staveb.časť | BC2: technol. časť | BD2: náklady z IP | BE2: staveb.časť | BF2: technol. časť | BG2: náklady z IP | BH2: staveb.časť | BI2: technol. časť | BJ2: náklady z IP | BK2: staveb.časť | BL2: technol. časť | BM2: náklady z IP | BN2: základ | BO2: základ
A3: Stavba : PREVÁDZKOVÁ BUDOVA DŽK - STANICA ČERMEĽ
A4: ....Objekt : 1_Prevádzková budova | C4: S | D4: 0 | E4: 0 | F4: 0 | G4: 0 | H4: 0 | I4: 0 | J4: 0 | K4: 0 | L4: =SUM(L5+L6+L7+L8+L9+L10) -> 0 | M4: =SUM(M5+M6+M7+M8+M9+M10) -> 0 | N4: =SUM(N5+N6+N7+N8+N9+N10) -> 0 | O4: =SUM(O5+O6+O7+O8+O9+O10) -> 0 | P4: =SUM(P5+P6+P7+P8+P9+P10) -> 0 | Q4: =SUM(Q5+Q6+Q7+Q8+Q9+Q10) -> 0 | R4: =SUM(R5+R6+R7+R8+R9+R10) -> 0 | S4: =SUM(S5+S6+S7+S8+S9+S10) -> 0 | ... W4: =SUM(W5+W6+W7+W8+W9+W10) -> 0 | AG4: =O4 -> 0 | AS4: =P4 -> 0 | AZ4: 4258.48 | BN4: =T4 -> 0 | BO4: 0
A5: ........Časť : 11 Elektroinštalácia | C5: S | D5: 0 | E5: 0 | F5: 0 | G5: 0 | H5: 0 | I5: 0 | J5: 0 | K5: 0 | L5: ='KL11'!D13 -> 0 | M5: ='KL11'!E13 -> 0 | N5: 0 | O5: =L5+M5+N5 -> 0 | P5: ='KL11'!M11 -> 0 | Q5: ='KL11'!I15 -> 0 | R5: ='KL11'!M21 -> 0 | S5: =SUM(R5+Q5+P5+O5) -> 0 | T5: ='KL11'!M24 -> 0 | U5: 0 | V5: =SUM(S5:U5) -> 0 | W5: 0 | AG5: =SUM(O5) -> 0 | AS5: =P5 -> 0 | BN5: =T5 -> 0 | BO5: 0
A6: ........Časť : 12 Architektúra | C6: S | D6: 45591.43 | E6: 1099.08 | F6: 17276.04 | G6: 13144.93 | H6: 0 | I6: 0 | J6: 0 | K6: 0 | L6: ='KL12'!D15 -> 0 | M6: ='KL12'!E15 -> 0 | N6: 0 | O6: =L6+M6+N6 -> 0 | P6: ='KL12'!M15 -> 0 | Q6: ='KL12'!I15 -> 0 | R6: ='KL12'!M21 -> 0 | S6: ='KL12'!M23 -> 0 | T6: ='KL12'!M24 -> 0 | U6: 0 | V6: =SUM(S6:U6) -> 0 | W6: 0 | AG6: =SUM(O6) -> 0 | AS6: =P6 -> 0 | BN6: =T6 -> 0 | BO6: 0
A7: ........Časť : 13 Bleskozvod | C7: S | D7: 0 | E7: 0 | F7: 0 | G7: 0 | H7: 761.98 | I7: 347.09 | J7: 0 | K7: 0 | L7: ='KL13'!D15 -> 0 | M7: ='KL13'!E15 -> 0 | N7: 0 | O7: =L7+M7+N7 -> 0 | P7: ='KL13'!M15 -> 0 | Q7: 0 | R7: 0 | S7: =SUM(O7:R7) -> 0 | T7: ='KL13'!M24 -> 0 | U7: 0 | V7: =SUM(S7:U7) -> 0 | W7: 0 | AG7: =SUM(O7) -> 0 | AS7: =P7 -> 0 | BN7: =T7 -> 0 | BO7: 0
A8: ........Časť : 14 Vykurovanie | C8: S | D8: 0 | E8: 0 | F8: 470.86 | G8: 762.87 | H8: 0 | I8: 0 | J8: 0 | K8: 0 | L8: ='KL14'!D15 -> 0 | M8: ='KL14'!E15 -> 0 | N8: 0 | O8: =L8+M8+N8 -> 0 | P8: ='KL14'!M15 -> 0 | Q8: ='KL14'!I15 -> 0 | R8: ='KL14'!M21 -> 0 | S8: =SUM(O8:R8) -> 0 | T8: ='KL14'!M24 -> 0 | U8: 0 | V8: =SUM(S8:U8) -> 0 | W8: 0 | AG8: =SUM(O8) -> 0 | AS8: =P8 -> 0 | BN8: =T8 -> 0 | BO8: 0
A9: ........Časť : 15 Zdravotechnika | C9: S | D9: 0 | E9: 0 | F9: 0 | G9: 0 | H9: 0 | I9: 0 | J9: 0 | K9: 0 | L9: ='KL15'!D12 -> 0 | M9: ='KL15'!E15 -> 0 | N9: 0 | O9: =L9+M9+N9 -> 0 | P9: ='KL15'!M15 -> 0 | Q9: ='KL15'!I15 -> 0 | R9: ='KL15'!M21 -> 0 | S9: =SUM(O9:R9) -> 0 | T9: ='KL15'!M24 -> 0 | U9: 0 | V9: =SUM(S9:U9) -> 0 | W9: 0 | AG9: =SUM(O9) -> 0 | AS9: =P9 -> 0 | BN9: =T9 -> 0 | BO9: 0
A10: ........Časť : 16 Zabezpečovacie zariadenie | C10: S | D10: 0 | E10: 0 | F10: 1122.29 | G10: 1892.96 | H10: 0 | I10: 0 | J10: 0 | K10: 0 | L10: ='KL16'!D13 -> 0 | M10: ='KL16'!E13 -> 0 | N10: 0 | O10: =L10+M10+N10 -> 0 | P10: ='KL16'!M15 -> 0 | Q10: ='KL16'!I15 -> 0 | R10: ='KL16'!M21 -> 0 | S10: =SUM(O10:R10) -> 0 | T10: ='KL16'!M24 -> 0 | U10: 0 | V10: =SUM(S10:U10) -> 0 | W10: 0 | AG10: =SUM(O10) -> 0 | AS10: =P10 -> 0 | BN10: =T10 -> 0 | BO10: 0
A11: ....Objekt : 2_Areálová splášková kanalizácia | C11: S | D11: 5309.38 | E11: 2288.88 | F11: 0 | G11: 0 | H11: 29.6 | I11: 0 | J11: 0 | K11: 0 | L11: ='KL2'!D15 -> 0 | M11: ='KL2'!E15 -> 0 | N11: 0 | O11: =L11+M11+N11 -> 0 | P11: ='KL2'!M11 -> 0 | Q11: ='KL2'!I15 -> 0 | R11: ='KL2'!M21 -> 0 | S11: =SUM(O11:R11) -> 0 | T11: ='KL2'!M24 -> 0 | U11: 0 | V11: =SUM(S11:U11) -> 0 | W11: 0 | AG11: =SUM(O11) -> 0 | AS11: =P11 -> 0 | BN11: =SUM(T11) -> 0 | BO11: 0
A12: Spolu: | D12: =SUM(D3:D11) -> 50900.81 | E12: =SUM(E3:E11) -> 3387.96 | F12: =SUM(F3:F11) -> 18869.19 | G12: =SUM(G3:G11) -> 15800.76 | H12: =SUM(H3:H11) -> 791.58 | I12: =SUM(I3:I11) -> 347.09 | J12: =SUM(J3:J11) -> 0 | K12: =SUM(K3:K11) -> 0 | L12: =SUM(L11+L4) -> 0 | M12: =SUM(M11+M4) -> 0 | N12: =SUM(N11+N4) -> 0 | O12: =SUM(O11+O4) -> 0 | P12: =SUM(P11+P4) -> 0 | Q12: =SUM(Q11+Q4) -> 0 | R12: =SUM(R11+R4) -> 0 | S12: =SUM(S11+S4) -> 0 | ... W12: =SUM(W11+W4) -> 0 | X12: =SUM(X3:X11) -> 0 | Y12: =SUM(Y3:Y11) -> 0 | Z12: =SUM(Z3:Z11) -> 0 | AA12: =SUM(AA3:AA11) -> 0 | AB12: =SUM(AB3:AB11) -> 0 | AC12: =SUM(AC3:AC11) -> 0 | AD12: =SUM(AD3:AD11) -> 0 | AE12: =SUM(AE3:AE11) -> 0 | AF12: =SUM(AF3:AF11) -> 0 | AG12: =SUM(AG11+AG4) -> 0 | AH12: =SUM(AH3:AH11) -> 0 | AI12: =SUM(AI3:AI11) -> 0 | AJ12: =SUM(AJ3:AJ11) -> 0 | AK12: =SUM(AK3:AK11) -> 0 | AL12: =SUM(AL3:AL11) -> 0 | AM12: =SUM(AM3:AM11) -> 0 | AN12: =SUM(AN3:AN11) -> 0 | AO12: =SUM(AO3:AO11) -> 0 | ... BO12: =SUM(BO3:BO11) -> 0

Sheet KL1
H1: Krycí list rozpočtu v EUR | Z1: V module | AA1: Hlavička1 | AB1: Mena | AC1: Hlavička2 | AD1: Obdobie
B2: Stavba : PREVÁDZKOVÁ BUDOVA DŽK - STANICA ČERMEĽ | G2: Miesto: | H2: DŽK, ČERMEĽ | J2: Rozpočet: | Z2: Rozpočet | AA2: Krycí list rozpočtu v | AB2: EUR
B3: Objekt : 01_Prevádzková budova | G3: KS : | J3: Spracoval: | K3: Ing. Milan GAJDOŠ, stavebný cenár | Z3: Čerpanie | AA3: Krycí list splátky v | AB3: EUR | AC3: za obdobie | AD3: Mesiac 2011
B4: Časť : | J4: Dňa: | K4: 43158 | L4: Zmluva č.: | Z4: VK | AA4: Krycí list výrobnej kalkulácie v | AB4: EUR
B5: Odberateľ: | D5: OZ DŽK, o.z. | G5: 04013 | H5: KOŠICE | J5: IČO: | K5: 42241189 | L5: DIČ: | Z5: VF | AA5: Krycí list splátky v | AB5: EUR | AC5: za obdobie | AD5: Mesiac 2011
B6: Dodávateľ: | D6: vybraný výberovým konaním | J6: IČO: | L6: DIČ:
B7: Projektant: | D7: MGR. ART. TOMÁŠ HAVIAR | G7: 03601 | H7: MARTIN | J7: IČO: | L7: DIČ:
F8: 0 | I8: 0 | M8: 0
F9: 0 | I9: 0 | M9: 0
B10: A | C10: ZRN | D10: Konštrukcie | E10: Špecifikovaný materiál | F10: Spolu ZRN | G10: B | H10: IN - Individuálne náklady | J10: C | K10: NUS - náklady umiestnenia stavby
B11: 1 | C11: HSV: | D11: ='KL11'!D11+'KL12'!D11+'KL13'!D11+'KL14'!D11+'KL15'!D11 -> 0 | E11: ='KL11'!E11+'KL12'!E11+'KL13'!E11+'KL14'!E11+'KL15'!E11+'KL16'!E11+'KL2'!E11 -> 0 | F11: =SUM(D11:E11) -> 0 | G11: 6 | H11: Práce nadčas | I11: 0 | J11: 11 | K11: Zariadenie staveniska | L11: 0.034 | M11: =L11*F15 -> 0
B12: 2 | C12: PSV: | D12: ='KL11'!D12+'KL12'!D12+'KL13'!D12+'KL14'!D12+'KL15'!D12+'KL16'!D12+'KL2'!D11 -> 0 | E12: ='KL11'!E12+'KL12'!E12+'KL13'!E12+'KL14'!E12+'KL15'!E12+'KL16'!E12 -> 0 | F12: =SUM(D12:E12) -> 0 | G12: 7 | H12: Murárske výpomoce | I12: 0 | J12: 12 | K12: Prevádzkové vplyvy | L12: 0 | M12: =L12*F15 -> 0
B13: 3 | C13: MCE: | D13: ='KL11'!D13+'KL12'!D13+'KL13'!D13+'KL14'!D13+'KL15'!D13+'KL16'!D13 -> 0 | E13: ='KL11'!E13+'KL12'!E13+'KL13'!E13+'KL14'!E13+'KL15'!E13+'KL16'!E13 -> 0 | F13: =SUM(D13:E13) -> 0 | G13: 8 | H13: Bez pevnej podlahy | I13: 0 | J13: 13 | K13: Sťažené podmienky | L13: 0 | M13: =L13*F15 -> 0
B14: 4 | C14: Iiné: | D14: ='KL11'!D14+'KL12'!D14+'KL13'!D14+'KL14'!D14+'KL15'!D14+'KL16'!D14 -> 0 | E14: ='KL11'!E14+'KL12'!E14+'KL13'!E14+'KL14'!E14+'KL15'!E14+'KL16'!E14 -> 0 | F14: 0 | G14: 9 | H14: HZS | I14: 0 | J14: 14 | K14: Vplyv zmien cien vstupov | L14: 0 | M14: =L14*F15 -> 0
B15: 5 | C15: Súčet: | D15: =SUM(D11:D14) -> 0 | E15: =SUM(E11:E14) -> 0 | F15: =SUM(F11:F14) -> 0 | G15: 10 | H15: Súčet riadkov 6 až 9: | I15: =SUM(I11:I14) -> 0 | J15: 15 | L15: Súčet riadkov 11 až 14: | M15: =SUM(M11:M14) -> 0
B16: projektant, rozpočtár, cenár | G16: dodávateľ, zhotoviteľ | J16: D | K16: ON - ostatné náklady
C17: dátum: | D17: 43158 | E17: podpis: | J17: 16 | K17: Ostatné náklady uvedené v rozpočte | M17: 0
C18: pečiatka: | H18: dátum: | J18: 17 | K18: Inžinierska činnosť | M18: 0
J19: 18 | K19: Projektové práce | M19: 0
H20: podpis: | J20: 19 | K20: Komplet. činnosť | M20: 0
H21: pečiatka: | J21: 20 | L21: Súčet riadkov 16 až 19: | M21: =SUM(M17:M20) -> 0
B22: odberateľ, obstarávateľ | J22: E | K22: Celkové náklady
C23: dátum: | E23: podpis: | J23: 21 | L23: Súčet riadkov 5, 10, 15 a 20: | M23: =SUM(M21+M15+I15+F15) -> 0
C24: pečiatka: | J24: 22 | K24: DPH 20% z: | L24: =M23 -> 0 | M24: =SUM(L24*0.2) -> 0
J25: 23 | K25: DPH 0% z: | L25: =M23-L24 -> 0 | M25: 0
J26: 24 | L26: Súčet riadkov 21 až 23: | M26: =SUM(M23:M25) -> 0
J27: F | K27: Odpočet - prípočet | M27: 0

Sheet KL11
H1: Krycí list rozpočtu v EUR | Z1: V module | AA1: Hlavička1 | AB1: Mena | AC1: Hlavička2 | AD1: Obdobie
B2: Stavba : PREVÁDZKOVÁ BUDOVA DŽK - STANICA ČERMEĽ | G2: Miesto: | H2: DŹK, ČERMEĽ | J2: Rozpočet: | Z2: Rozpočet | AA2: Krycí list rozpočtu v | AB2: EUR
B3: Objekt : 01_Prevádzková budova | G3: KS : | J3: Spracoval: | K3: Ing. Milan GAJDOŠ, stavebný cenár | Z3: Čerpanie | AA3: Krycí list splátky v | AB3: EUR | AC3: za obdobie | AD3: Mesiac 2011
B4: Časť : Elektroinštlácia | J4: Dňa: | K4: 43158 | L4: Zmluva č.: | Z4: VK | AA4: Krycí list výrobnej kalkulácie v | AB4: EUR
B5: Odberateľ: | D5: OZ DŽK, o.z. | H5: KOŠICE | J5: IČO: | L5: DIČ: | Z5: VF | AA5: Krycí list splátky v | AB5: EUR | AC5: za obdobie | AD5: Mesiac 2011
B6: Dodávateľ: | D6: vybraný výberovým konaním | J6: IČO: | L6: DIČ:
B7: Projektant: | D7: MGR. ART. TOMÁŠ HAVIAR | G7: 03601 | H7: MARTIN | J7: IČO: | L7: DIČ:
F8: 0 | I8: 0 | M8: 0
F9: 0 | I9: 0 | M9: 0
B10: A | C10: ZRN | D10: Konštrukcie | E10: Špecifikovaný materiál | F10: Spolu ZRN | G10: B | H10: IN - Individuálne náklady | J10: C | K10: NUS - náklady umiestnenia stavby
B11: 1 | C11: HSV: | F11: =SUM(D11:E11) -> 0 | G11: 6 | H11: Práce nadčas | I11: 0 | J11: 11 | K11: Zariadenie staveniska | L11: 0.009 | M11: =L11*F15 -> 0
B12: 2 | C12: PSV: | F12: =SUM(D12:E12) -> 0 | G12: 7 | H12: Murárske výpomoce | I12: 0 | J12: 12 | K12: Prevádzkové vplyvy | L12: 0 | M12: =L12*F15 -> 0
B13: 3 | C13: MCE: | D13: ='P11'!H18 -> 0 | E13: ='P11'!I16 -> 0 | F13: =SUM(D13:E13) -> 0 | G13: 8 | H13: Bez pevnej podlahy | I13: 0 | J13: 13 | K13: Sťažené podmienky | L13: 0 | M13: =L13*F15 -> 0
B14: 4 | C14: Iiné: | F14: 0 | G14: 9 | H14: HZS | I14: 0 | J14: 14 | K14: Vplyv zmien cien vstupov | L14: 0 | M14: =L14*F15 -> 0
B15: 5 | C15: Súčet: | D15: =SUM(D11:D14) -> 0 | E15: =SUM(E11:E14) -> 0 | F15: =SUM(F11:F14) -> 0 | G15: 10 | H15: Súčet riadkov 6 až 9: | I15: =SUM(I11:I14) -> 0 | J15: 15 | L15: Súčet riadkov 11 až 14: | M15: =SUM(M11:M14) -> 0
B16: projektant, rozpočtár, cenár | G16: dodávateľ, zhotoviteľ | J16: D | K16: ON - ostatné náklady
C17: dátum: | D17: 43158 | E17: podpis: | J17: 16 | K17: Ostatné náklady uvedené v rozpočte | M17: 0
C18: pečiatka: | H18: dátum: | J18: 17 | K18: Inžinierska činnosť | M18: 0
J19: 18 | K19: Projektové práce | M19: 0
H20: podpis: | J20: 19 | K20: Komplet. činnosť | M20: 0
H21: pečiatka: | J21: 20 | L21: Súčet riadkov 16 až 19: | M21: =SUM(M17:M20) -> 0
B22: odberateľ, obstarávateľ | J22: E | K22: Celkové náklady
C23: dátum: | E23: podpis: | J23: 21 | L23: Súčet riadkov 5, 10, 15 a 20: | M23: =SUM(M21+M15+I15+F15) -> 0
C24: pečiatka: | J24: 22 | K24: DPH 20% z: | L24: =M23 -> 0 | M24: =SUM(L24*0.2) -> 0
J25: 23 | K25: DPH 0% z: | L25: =M23-L24 -> 0 | M25: 0
J26: 24 | L26: Súčet riadkov 21 až 23: | M26: =SUM(M23:M25) -> 0
J27: F | K27: Odpočet - prípočet | M27: 0

Sheet P11
A1: Odberateľ: | C1: OZ DŽK, o.z. | I1: Spracoval: Ing. Milan GAJDOŠ, stavebný cenár | Z1: V module | AA1: Hlavička1 | AB1: Mena | AC1: Hlavička2
A2: Projektant: MGR. ART. TOMÁŠ HAVIAR | I2: JKSO : | Z2: Rozpočet | AA2: Prehľad rozpočtových nákladov v | AB2: EUR
A3: Dodávateľ: | I3: Dátum: 27.02.2018 | Z3: Čerpanie | AA3: Súpis vykonaných prác a dodávok v | AB3: EUR | AC3: za obdobie
Z4: VK | AA4: Prehľad kalkulovaných nákladov v | AB4: EUR
A5: Stavba : PREVÁDZKOVÁ BUDOVA DŽK - STANICA ČERMEĽ | Z5: VF | AA5: Súpis vykonaných prác a dodávok v | AB5: EUR | AC5: za obdobie
A6: Objekt : 01_Prevádzková budova
A7: Časť : Elektroinštalácia
D8: Prehľad rozpočtových nákladov v EUR
A9: P. | B9: Kód | C9: Kód položky | D9: Popis položky, stavebného dielu, remesla, | E9: Množstvo | F9: Mer. | G9: Jednotková | H9: Konštrukcie | I9: Špecifikovaný | J9: Spolu | K9: Hmotnosť v tonách | M9: Suť v tonách | O9: DPH | P9: Pozícia | Q9: Množstvo | R9: Množstvo | S9: Množstvo | T9: Vyňatý | U9: Vysoká sadzba | V9: Typ | W9: Nh | X9: X | Y9: Y | Z9: Klasifikácia | AA9: Katalógové | AB9: Typ
A10: č.: | B10: cen. | D10: výkaz-výmer | E10: výmera | F10: jed. | G10: cena | I10: materiál | K10: Jednot. | L10: Spolu | M10: Jednot. | N10: Spolu | O10: % | Q10: rozpočtované | R10: od začiatku | S10: dodatok | T10: z režimu stavba | U10: DPH ( materiál ) | V10: položky | Z10: produkcie | AA10: číslo | AB10: Ceny
B12: PRÁCE A DODÁVKY M
B13: M21 - 155 Elektromontáže
D14: M21 - 155 Elektromontáže spolu: | H14: 0 | I14: 0 | J14: 0 | W14: 85.902
D16: PRÁCE A DODÁVKY M spolu: | H16: =SUM(H14) -> 0 | I16: =SUM(I14) -> 0 | J16: =SUM(J14) -> 0 | W16: 85.902
D18: Za rozpočet celkom | H18: =SUM(H16) -> 0 | I18: =SUM(I16) -> 0 | J18: =SUM(J16) -> 0 | W18: 85.902

Sheet KL12
H1: Krycí list rozpočtu v EUR | Z1: V module | AA1: Hlavička1 | AB1: Mena | AC1: Hlavička2 | AD1: Obdobie
B2: Stavba : PREVÁDZKOVÁ BUDOVA DŽK - STANICA ČERMEĽ | G2: Miesto: | H2: DŹK, ČERMEĽ | J2: Rozpočet: | Z2: Rozpočet | AA2: Krycí list rozpočtu v | AB2: EUR
B3: Objekt : 01_Prevádzková budova | G3: JKSO : | J3: Spracoval: | K3: Ing. Milan GAJDOŠ, stavebný cenár | Z3: Čerpanie | AA3: Krycí list splátky v | AB3: EUR | AC3: za obdobie | AD3: Mesiac 2011
B4: Časť : Architektúra | J4: Dňa: | K4: 43158 | L4: Zmluva č.: | Z4: VK | AA4: Krycí list výrobnej kalkulácie v | AB4: EUR
B5: Odberateľ: | D5: OZ DŽK, o.z. | G5: 04013 | H5: KOŠICE | J5: IČO: | K5: ='Suhrnny list'!L6 -> 42241189 | L5: DIČ: | Z5: VF | AA5: Krycí list splátky v | AB5: EUR | AC5: za obdobie | AD5: Mesiac 2011
B6: Dodávateľ: | J6: IČO: | L6: DIČ:
B7: Projektant: | D7: MGR. ART. TOMÁŠ HAVIAR | G7: 03601 | H7: MARTIN | J7: IČO: | L7: DIČ:
F8: 0 | I8: 0 | M8: 0
F9: 0 | I9: 0 | M9: 0
B10: A | C10: ZRN | D10: Konštrukcie | E10: Špecifikovaný materiál | F10: Spolu ZRN | G10: B | H10: IN - Individuálne náklady | J10: C | K10: NUS - náklady umiestnenia stavby
B11: 1 | C11: HSV: | D11: ='P12'!H163 -> 0 | E11: ='P12'!I163 -> 0 | F11: =SUM(D11:E11) -> 0 | G11: 6 | H11: Práce nadčas | I11: 0 | J11: 11 | K11: Zariadenie staveniska | L11: 0.034 | M11: =L11*F15 -> 0
B12: 2 | C12: PSV: | D12: ='P12'!H357 -> 0 | E12: ='P12'!I357 -> 0 | F12: =SUM(D12:E12) -> 0 | G12: 7 | H12: Murárske výpomoce | I12: 0 | J12: 12 | K12: Prevádzkové vplyvy | L12: 0 | M12: =L12*F15 -> 0
B13: 3 | C13: MCE: | F13: 0 | G13: 8 | H13: Bez pevnej podlahy | I13: 0 | J13: 13 | K13: Sťažené podmienky | L13: 0 | M13: =L13*F15 -> 0
B14: 4 | C14: Iiné: | F14: 0 | G14: 9 | H14: HZS | I14: 0 | J14: 14 | K14: Vplyv zmien cien vstupov | L14: 0 | M14: =L14*F15 -> 0
B15: 5 | C15: Súčet: | D15: =SUM(D11:D14) -> 0 | E15: =SUM(E11:E14) -> 0 | F15: =SUM(F11:F14) -> 0 | G15: 10 | H15: Súčet riadkov 6 až 9: | I15: =SUM(I11:I14) -> 0 | J15: 15 | L15: Súčet riadkov 11 až 14: | M15: =SUM(M11:M14) -> 0
B16: projektant, rozpočtár, cenár | G16: dodávateľ, zhotoviteľ | J16: D | K16: ON - ostatné náklady
C17: dátum: | D17: 43158 | E17: podpis: | J17: 16 | K17: Ostatné náklady uvedené v rozpočte | M17: 0
C18: pečiatka: | H18: dátum: | J18: 17 | K18: Inžinierska činnosť | M18: 0
J19: 18 | K19: Projektové práce | M19: 0
H20: podpis: | J20: 19 | K20: Komplet. činnosť | M20: 0
H21: pečiatka: | J21: 20 | L21: Súčet riadkov 16 až 19: | M21: =SUM(M17:M20) -> 0
B22: odberateľ, obstarávateľ | J22: E | K22: Celkové náklady
C23: dátum: | E23: podpis: | J23: 21 | L23: Súčet riadkov 5, 10, 15 a 20: | M23: =SUM(M21+M15+I15+F15) -> 0
C24: pečiatka: | J24: 22 | K24: DPH 20% z: | L24: =M23 -> 0 | M24: =SUM(L24*0.2) -> 0
J25: 23 | K25: DPH 0% z: | L25: =M23-L24 -> 0 | M25: 0
J26: 24 | L26: Súčet riadkov 21 až 23: | M26: =SUM(M23:M25) -> 0
J27: F | K27: Odpočet - prípočet | M27: 0

Sheet P12
A1: Odberateľ: | C1: OZ DŽK, o.z. | I1: Spracoval: Ing. Milan GAJDOŠ, stavebný cenár | Z1: V module | AA1: Hlavička1 | AB1: Mena | AC1: Hlavička2 | AD1: Obdobie
A2: Projektant: MGR. ART. TOMÁŠ HAVIAR | I2: KS : | Z2: Rozpočet | AA2: Prehľad rozpočtových nákladov v | AB2: EUR
A3: Dodávateľ: | I3: Dátum: 16.03.2018 | Z3: Čerpanie | AA3: Súpis vykonaných prác a dodávok v | AB3: EUR | AC3: za obdobie | AD3: Mesiac 2011
Z4: VK | AA4: Prehľad kalkulovaných nákladov v | AB4: EUR
A5: Stavba : PREVÁDZKOVÁ BUDOVA DŽK - STANICA ČERMEĽ | Z5: VF | AA5: Súpis vykonaných prác a dodávok v | AB5: EUR | AC5: za obdobie | AD5: Mesiac 2011
A6: Objekt : 01_Prevádzková budova
A7: Časť : Architektúra
D8: Prehľad rozpočtových nákladov v EUR
A9: Por. | B9: Kód | C9: Kód položky | D9: Popis položky, stavebného dielu, remesla, | E9: Množstvo | F9: Mer. | G9: Jednotková | H9: Konštrukcie | I9: Špecifikovaný | J9: Spolu | K9: Hmotnosť v tonách | M9: Suť v tonách | O9: DPH | P9: Pozícia | Q9: Množstvo | R9: Množstvo | S9: Množstvo | T9: Vyňatý | U9: Vysoká sadzba | V9: Typ | W9: Nh | X9: X | Y9: Y | Z9: Klasifikácia | AA9: Katalógové | AB9: Typ
A10: číslo | B10: cen. | D10: výkaz-výmer | E10: výmera | F10: jed. | G10: cena | I10: materiál | K10: Jednotk. | L10: Spolu | M10: Jednotk. | N10: Spolu | O10: % | Q10: rozpočtované | R10: od začiatku | S10: dodatok | T10: z režimu stavba | U10: DPH ( materiál ) | V10: položky | Z10: produkcie | AA10: číslo | AB10: Ceny
B12: PRÁCE A DODÁVKY HSV
B13: 1 - ZEMNE PRÁCE
A14: 1 | B14: 272 | C14: 16250-1102 | D14: Vodorovné premiestnenie výkopu do 3000 m horn. tr. 1-4 | E14: 91.664 | F14: m3 | H14: =ROUND(E14*G14, 2) -> 0 | J14: =ROUND(H14+I14,2) -> 0 | O14: 20 | V14: E | W14: 1.008 | Z14: 45.11.24 | AB14: A
D15: "odpkop" 56,180 = 56,180 | V15: a
D16: "hĺbenie rýh" 35,484 = 35,484 | V16: a
D17: 1 - ZEMNE PRÁCE spolu: | H17: =SUM(H14:H16) -> 0 | I17: =SUM(I14:I16) -> 0 | J17: =SUM(J14:J16) -> 0 | L17: =SUM(L14:L16) -> 0 | N17: =SUM(N14:N16) -> 0 | W17: 147.039
B18: 2 - ZÁKLADY
D19: 2 - ZÁKLADY spolu: | H19: 0 | I19: 0 | J19: 0 | L19: 0 | N19: 0 | W19: 31.066
B20: 3 - ZVISLÉ A KOMPLETNÉ KONŠTRUKCIE
A21: 1 | B21: 011 | C21: 34224-1172 | D21: Priečky z tehál 25 cm dl. pálených plných P15 hr. 140 mm | E21: 0.177 | F21: m2 | H21: =ROUND(E21*G21, 2) -> 0 | J21: =ROUND(H21+I21,2) -> 0 | K21: 0.2426 | L21: =ROUND(K21*E21,5) -> 0.04294 | O21: 20 | V21: E | W21: 0.134 | Z21: 45.25.50 | AB21: A
D22: "múrik v sprche - vytvorenie vaničky" 0,910*0,065*3 = 0,177 | V22: a
D23: 3 - ZVISLÉ A KOMPLETNÉ KONŠTRUKCIE spolu: | H23: =SUM(H21:H22) -> 0 | I23: =SUM(I21:I22) -> 0 | J23: =SUM(J21:J22) -> 0 | L23: =SUM(L21:L22) -> 0.04294 | N23: =SUM(N21:N22) -> 0 | W23: 167.932
B24: 4 - VODOROVNÉ KONŠTRUKCIE
D25: 4 - VODOROVNÉ KONŠTRUKCIE spolu: | H25: 0 | I25: 0 | J25: 0 | L25: 0 | N25: 0 | W25: 177.444
B26: 6 - ÚPRAVY POVRCHOV, PODLAHY, VÝPLNE
A27: 2 | B27: 011 | C27: 61245-1111 | D27: Omietka vnút. stien cem. hrubá zatretá | E27: 0.482 | F27: m2 | H27: =ROUND(E27*G27, 2) -> 0 | J27: =ROUND(H27+I27,2) -> 0 | K27: 0.04086 | L27: =ROUND(K27*E27,5) -> 0.01969 | O27: 20 | V27: E | W27: 0.221 | Z27: 45.41.10 | AB27: A
D28: "múrik v sprche - vytvorenie vaničky" 0,910*(0,065*3*2+0,140) = 0,482 | V28: a
A29: 2 | B29: 011 | C29: 61240-8122 | D29: Vnútorná tenkovrstvová minerálna omietka stien so zatieranou štruktúrou Prince Color MSP-BASF hr. zrna 2,5 mm | E29: =SUM(E30:E46) -> 149.991 | F29: m2 | H29: =ROUND(E29*G29, 2) -> 0 | J29: =ROUND(H29+I29,2) -> 0 | K29: 0.00377 | L29: =ROUND(K29*E29,5) -> 0.56547 | O29: 20 | V29: E | W29: 88.384 | Z29: . . | AB29: B
D30: "m.č. 1.01" | E30: 0 | V30: a
D31: 2*(0,8+1,4)*0,200+(0,8+2*1,98)*0,200 = 1,832 | V31: a
D32: "m.č. 1.02" 2*(3,750+1,540)*2,400-0,8*1,4-0,8*1,98-0,7*1,98*3 = 18,530 | E32: 18.53 | V32: a
D33: 2*(0,8+1,4)*0,200+(0,8+1,98*2) = 5,640 | E33: 5.64 | V33: a
D34: "m.č. 1.03" 2*(1,845+1,75)*2,400-0,7*1,98-0,4*0,4 = 15,710 | E34: 15.71 | V34: a
D35: 2*(0,4+0,4)*0,2 = 0,320 | E35: 0.32 | V35: a
D36: "m.č. 1.04" 2*(2,675+1,750)*2,400+0,7*1,98-0,4*0,4 = 22,466 | E36: 22.466 | V36: a
D37: 2*(0,4+0,4)*0,200+(2*0,9+0,1)*2,400 = 4,880 | V37: a
D38: "m.č. 1.05" 2*(4,3+3,44)*2,4-0,8*1,4-0,8*1,98-2*0,6*1,98 = 32,072 | E38: 32.072 | V38: a
D39: 2*(0,8+1,4)*0,2+(0,8+2*1,98)*0,2 = 1,832 | E39: 1.832 | V39: a
D40: "m.č. 1.06" 2*(0,91*1,75)*2,4-0,4*0,4-0,6*1,98 = 6,296 | E40: 6.296 | V40: a
D41: 2*(0,4+0,4)*0,2 = 0,320 | E41: 0.32 | V41: a
D42: "m.č. 1.07" 2*(1,87+1,54)*2,4-0,6*1,98 = 15,180 | E42: 15.18 | V42: a
D43: "m.č. 1.08" 2*(4,52+3,44)*2,4-0,7*1,98-0,8*1,4*3-0,8*1,98 = 31,878 | E43: 31.878 | V43: a
D44: 2*0,5*2,4+2*(0,8+1,4)*4+(0,8+1,98*2) = 24,760 | V44: a
D45: 2*(19,89-2*0,250)*1,250+2*3,44*1,25 = 57,075 | E45: 57.075 | V45: a
D46: "odpočet kerm. obklad" -57,328 = -57,328 | E46: -57.328 | V46: a
A47: 3 | B47: 011 | C47: 61240-8191 | D47: Základná penetrácia pre vnútorné nátery, Prince Color Multigrund PGM-BASF | E47: =E29 -> 149.991 | F47: m2 | H47: =ROUND(E47*G47, 2) -> 0 | J47: =ROUND(H47+I47,2) -> 0 | K47: 0.0001 | L47: =ROUND(K47*E47,5) -> 0.015 | O47: 20 | V47: E | W47: 30.463 | Z47: . . | AB47: B
A48: 4 | B48: 011 | C48: 61248-1118 | D48: Potiahnutie vnút. stien sklovláknitým pletivom vtlačeným do tmelu | E48: =SUM(E49:E65) -> 200.423 | F48: m2 | H48: =ROUND(E48*G48, 2) -> 0 | J48: =ROUND(H48+I48,2) -> 0 | K48: 0.00446 | L48: =ROUND(K48*E48,5) -> 0.89389 | O48: 20 | V48: E | W48: 71.769 | Z48: 45.41.10 | AB48: B
D49: "m.č. 1.01" | E49: 0 | V49: a
D50: 2*(0,8+1,4)*0,200+(0,8+2*1,98)*0,200 = 1,832 | E50: 1.832 | V50: a
D51: "m.č. 1.02" 2*(3,750+1,540)*2,400-0,8*1,4-0,8*1,98-0,7*1,98*3 = 18,530 | E51: 18.53 | V51: a
D52: 2*(0,8+1,4)*0,200+(0,8+1,98*2) = 5,640 | E52: 5.64 | V52: a
D53: "m.č. 1.03" 2*(1,845+1,75)*2,400-0,7*1,98-0,4*0,4 = 15,710 | E53: 15.71 | V53: a
D54: 2*(0,4+0,4)*0,2 = 0,320 | E54: 0.32 | V54: a
D55: "m.č. 1.04" 2*(2,675+1,750)*2,400+0,7*1,98-0,4*0,4 = 22,466 | E55: 22.466 | V55: a
D56: 2*(0,4+0,4)*0,200+(2*0,9+0,1)*2,400 = 4,880 | E56: 4.88 | V56: a
D57: "m.č. 1.05" 2*(4,3+3,44)*2,4-0,8*1,4-0,8*1,98-2*0,6*1,98 = 32,072 | V57: a
D58: 2*(0,8+1,4)*0,2+(0,8+2*1,98)*0,2 = 1,832 | E58: 1.832 | V58: a
D59: "m.č. 1.06" 2*(0,91*1,75)*2,4-0,4*0,4-0,6*1,98 = 6,296 | V59: a
D60: 2*(0,4+0,4)*0,2 = 0,320 | E60: 0.32 | V60: a
D61: "m.č. 1.07" 2*(1,87+1,54)*2,4-0,6*1,98 = 15,180 | E61: 15.18 | V61: a
D62: "m.č. 1.08" 2*(4,52+3,44)*2,4-0,7*1,98-0,8*1,4*3-0,8*1,98 = 31,878 | E62: 31.878 | V62: a
D63: 2*0,5*2,4+2*(0,8+1,4)*4+(0,8+1,98*2) = 24,760 | E63: 24.76 | V63: a
D64: 2*(19,89-2*0,250)*1,250+2*3,44*1,25 = 57,075 | E64: 57.075 | V64: a
D65: . | V65: a
A66: 5 | B66: 011 | C66: 62284-41910R | D66: PZS stien z dosiek hr. 17 mm na drevený rošt vrátane roštu s izoláciou tepelnou z kamennej vlny hr. 10 cm | E66: 85.59 | F66: m2 | H66: =ROUND(E66*G66, 2) -> 0 | J66: =ROUND(H66+I66,2) -> 0 | K66: 0.00045 | L66: =ROUND(K66*E66,5) -> 0.03852 | O66: 20 | V66: E | W66: 55.034 | Z66: . . | AB66: A
D67: 2*19,89*1,690 = 67,228 | V67: a
D68: 2*4,180*1,690-(0,75*1,600) = 12,928 | V68: a
D69: 2*1/2*4,180*1,300 = 5,434 | V69: a
A70: 6 | B70: 011 | C70: 62513-4415 | D70: Vonk.omietka stien silikátovo-silikón.1,5 mm | E70: 98.365 | F70: m2 | H70: =ROUND(E70*G70, 2) -> 0 | J70: =ROUND(H70+I70,2) -> 0 | K70: 0.00285 | L70: =ROUND(K70*E70,5) -> 0.28034 | O70: 20 | V70: E | W70: 70.921 | Z70: 45.41.10 | AB70: B
D71: 20,15*2,480-3*0,400*0,400 = 49,492 | V71: a
D72: 4,180*2,480-0,800*1,400 = 9,246 | V72: a
D73: 4,180*2,480-2*0,800*1,400 = 8,126 | V73: a
D74: 20,150*2,480-0,800*1,980*3-0,800*1,400*5 = 39,620 | V74: a
D75: "ostenia okien a dverí" | V75: a
D76: 2*(0,800+1,400)*0,120*9 = 4,752 | V76: a
D77: (0,800+2*1,980)*0,120*3 = 1,714 | V77: a
D78: 2*(0,400+0,400)*0,120*3 = 0,576 | V78: a
D79: -15,161 = -15,161 | V79: a
D80: . | V80: a
A81: 7 | B81: 011 | C81: 62284-SW01 | D81: PZS stien z dosiek SUPERDOSKA WOOD hr. 8 mm lepenie na murivo | E81: 15.161 | F81: m2 | H81: =ROUND(E81*G81, 2) -> 0 | J81: =ROUND(H81+I81,2) -> 0 | K81: 0.02244 | L81: =ROUND(K81*E81,5) -> 0.34021 | O81: 20 | V81: E | W81: 12.978 | Z81: 45.41.10 | AB81: B
D82: 6*0,100*2,480+4*0,100*0,400+0,100*4,000+4*0,100*0,800+2*0,100*1,000+0,100*2,400 = 2,808 | V82: a
D83: 6*0,100*2,480+4*0,100*0,400+0,100*4,000+4*0,100*0,800+2*0,100*1,000+0,100*2,400 = 2,808 | V83: a
D84: (0,88+1,44+1,82+0,82+0,87)*0,100 = 0,583 | V84: a
D85: 0,100*2,480*19+4*0,100*0,800+0,100*0,800*10+0,100*0,750*4+0,100*1,500*2 = 6,432 | V85: a
D86: 0,100*1,200*6+0,100*0,800*4+0,100*1,200*4 = 1,520 | V86: a
D87: 0,100*(2,600+2,500+2,500+2,500) = 1,010 | V87: a
D88: 6*0,100*2,480+4*0,100*0,400+0,100*4,000+4*0,100*0,800+2*0,100*1,000+0,100*2,400 = 2,808
D89: 6*0,100*2,480+4*0,100*0,400+0,100*4,000+4*0,100*0,800+2*0,100*1,000+0,100*2,400 = 2,808
D90: (0,88+1,44+1,82+0,82+0,87)*0,100 = 0,583
D91: 0,100*2,480*19+4*0,100*0,800+0,100*0,800*10+0,100*0,750*4+0,100*1,500*2 = 6,432
D92: 0,100*1,200*6+0,100*0,800*4+0,100*1,200*4 = 1,520
D93: 0,100*(2,600+2,500+2,500+2,500) = 1,010
A94: 8 | B94: 011 | C94: 62299-SP01 | D94: Náter vonkajších obkladov SUPERDOSKA PENETRÁK originál | E94: 15.161 | F94: m2 | H94: =ROUND(E94*G94, 2) -> 0 | J94: =ROUND(H94+I94,2) -> 0 | K94: 0.00025 | L94: =ROUND(K94*E94,5) -> 0.00379 | V94: a
A95: 9 | B95: 011 | C95: 62513-5122 | D95: Zateplenie stien Ceretherm VWS IMPACTUM polystyrén 12 cm, variant C | E95: 105.365 | F95: m2 | H95: =ROUND(E95*G95, 2) -> 0 | J95: =ROUND(H95+I95,2) -> 0 | K95: 0.01087 | L95: =ROUND(K95*E95,5) -> 1.14532 | O95: 20 | V95: E | W95: 132.022 | Z95: 45.41.10 | AB95: B
D96: 2*20,150*2,480 = 99,944 | V96: a
D97: 2*4,180*2,480 = 20,733 | V97: a
D98: -3*0,400*0,400-3*0,800*1,98-9*0,800*1,400 = -15,312 | V98: a
B99: 011 | C99: 62299-SP01 | D99: Náter vonkajších obkladov SUPERKOSKA PENETRÁK originál | E99: 15.161 | F99: m2 | H99: =ROUND(E99*G99, 2) -> 0 | J99: =ROUND(H99+I99,2) -> 0 | K99: 0.00025 | L99: 0.00379025 | V99: a
A100: 10 | B100: 011 | C100: 62513-5190 | D100: Zateplenie sokla Ceretherm VWS IMPACTUM EPS soklová doska 5 cm, variant C | E100: 24.33 | F100: m2 | H100: =ROUND(E100*G100, 2) -> 0 | J100: =ROUND(H100+I100,2) -> 0 | K100: 0.00904 | L100: =ROUND(K100*E100,5) -> 0.21994 | O100: 20 | V100: E | W100: 32.918 | Z100: 45.41.10 | AB100: B
D101: 20,150*0,500*2 = 20,150 | V101: a
...

Sheet KL13
H1: Krycí list rozpočtu v EUR | Z1: V module | AA1: Hlavička1 | AB1: Mena | AC1: Hlavička2 | AD1: Obdobie
B2: Stavba : PREVÁDZKOVÁ BUDOVA DŽK - STANICA ČERMEĽ | G2: Miesto: | H2: DŹK, ČERMEĽ | J2: Rozpočet: | Z2: Rozpočet | AA2: Krycí list rozpočtu v | AB2: EUR
B3: Objekt : 01_Prevádzková budova | G3: KS : | J3: Spracoval: | K3: Ing. Milan GAJDOŠ, stavebný cenár | Z3: Čerpanie | AA3: Krycí list splátky v | AB3: EUR | AC3: za obdobie | AD3: Mesiac 2011
B4: Časť : Bleskozvod | J4: Dňa: | K4: 43158 | L4: Zmluva č.: | Z4: VK | AA4: Krycí list výrobnej kalkulácie v | AB4: EUR
B5: Odberateľ: | D5: OZ DŽK, o.z. | G5: 04013 | H5: KOŠICE | J5: IČO: | K5: ='KL12'!K5 -> 42241189 | L5: DIČ: | Z5: VF | AA5: Krycí list splátky v | AB5: EUR | AC5: za obdobie | AD5: Mesiac 2011
B6: Dodávateľ: | D6: vybraný výberovým konaním | J6: IČO: | L6: DIČ:
B7: Projektant: | D7: MGR. ART. TOMÁŠ HAVIAR | G7: 03601 | H7: MARTIN | J7: IČO: | L7: DIČ:
F8: 0 | I8: 0 | M8: 0
F9: 0 | I9: 0 | M9: 0
B10: A | C10: ZRN | D10: Konštrukcie | E10: Špecifikovaný materiál | F10: Spolu ZRN | G10: B | H10: IN - Individuálne náklady | J10: C | K10: NUS - náklady umiestnenia stavby
B11: 1 | C11: HSV: | F11: =SUM(D11:E11) -> 0 | G11: 6 | H11: Práce nadčas | I11: 0 | J11: 11 | K11: Zariadenie staveniska | L11: 0.009 | M11: =SUM(F15*L11) -> 0
B12: 2 | C12: PSV: | F12: =SUM(D12:E12) -> 0 | G12: 7 | H12: Murárske výpomoce | I12: 0 | J12: 12 | K12: Prevádzkové vplyvy | L12: 0 | M12: =L12*F15 -> 0
B13: 3 | C13: MCE: | D13: ='P13'!H19 -> 0 | E13: ='P13'!I19 -> 0 | F13: =SUM(D13:E13) -> 0 | G13: 8 | H13: Bez pevnej podlahy | I13: 0 | J13: 13 | K13: Sťažené podmienky | L13: 0 | M13: =L13*F15 -> 0
B14: 4 | C14: Iiné: | F14: 0 | G14: 9 | H14: HZS | I14: 0 | J14: 14 | K14: Vplyv zmien cien vstupov | L14: 0 | M14: =L14*F15 -> 0
B15: 5 | C15: Súčet: | D15: =SUM(D11:D14) -> 0 | E15: =SUM(E11:E14) -> 0 | F15: =SUM(F11:F14) -> 0 | G15: 10 | H15: Súčet riadkov 6 až 9: | I15: =SUM(I11:I14) -> 0 | J15: 15 | L15: Súčet riadkov 11 až 14: | M15: =SUM(M11:M14) -> 0
B16: projektant, rozpočtár, cenár | G16: dodávateľ, zhotoviteľ | J16: D | K16: ON - ostatné náklady
C17: dátum: | D17: 43158 | E17: podpis: | J17: 16 | K17: Ostatné náklady uvedené v rozpočte | M17: 0
C18: pečiatka: | H18: dátum: | J18: 17 | K18: Inžinierska činnosť | M18: 0
J19: 18 | K19: Projektové práce | M19: 0
H20: podpis: | J20: 19 | K20: Komplet. činnosť | M20: 0
H21: pečiatka: | J21: 20 | L21: Súčet riadkov 16 až 19: | M21: =SUM(M17:M20) -> 0
B22: odberateľ, obstarávateľ | J22: E | K22: Celkové náklady
C23: dátum: | E23: podpis: | J23: 21 | L23: Súčet riadkov 5, 10, 15 a 20: | M23: =SUM(M21+M15+I15+F15) -> 0
C24: pečiatka: | J24: 22 | K24: DPH 20% z: | L24: =M23 -> 0 | M24: =SUM(L24*0.2) -> 0
J25: 23 | K25: DPH 0% z: | L25: =M23-L24 -> 0 | M25: 0
J26: 24 | L26: Súčet riadkov 21 až 23: | M26: =SUM(M23:M25) -> 0
J27: F | K27: Odpočet - prípočet | M27: 0

Sheet P13
A1: Odberateľ: | C1: OZ DŽK, o.z. | I1: Spracoval: Ing. Milan GAJDOŠ, stavebný cenár | Z1: V module | AA1: Hlavička1 | AB1: Mena | AC1: Hlavička2 | AD1: Obdobie
A2: Projektant: MGR. ART. TOMÁŠ HAVIAR | I2: JKSO : | Z2: Rozpočet | AA2: Prehľad rozpočtových nákladov v | AB2: EUR
A3: Dodávateľ: | I3: Dátum: 27.02.2018 | Z3: Čerpanie | AA3: Súpis vykonaných prác a dodávok v | AB3: EUR | AC3: za obdobie | AD3: Mesiac 2011
Z4: VK | AA4: Prehľad kalkulovaných nákladov v | AB4: EUR
A5: Stavba : PREVÁDZKOVÁ BUDOVA DŽK - STANICA ĎERMEĽ | Z5: VF | AA5: Súpis vykonaných prác a dodávok v | AB5: EUR | AC5: za obdobie | AD5: Mesiac 2011
A6: Objekt : 01_Prevádzková budova
A7: Časť : Bleskozvod
A8: Ing. Milan Gajdoš | D8: Prehľad rozpočtových nákladov v EUR
A9: Por. | B9: Kód | C9: Kód položky | D9: Popis položky, stavebného dielu, remesla, | E9: Množstvo | F9: Mer. | G9: Jednotková | H9: Konštrukcie | I9: Špecifikovaný | J9: Spolu | K9: Hmotnosť v tonách | M9: Suť v tonách | O9: DPH | P9: Pozícia | Q9: Množstvo | R9: Množstvo | S9: Množstvo | T9: Vyňatý | U9: Vysoká sadzba | V9: Typ | W9: Nh | X9: X | Y9: Y | Z9: Klasifikácia | AA9: Katalógové | AB9: Typ
A10: čís. | B10: cen. | D10: výkaz-výmer | E10: výmera | F10: jed. | G10: cena | I10: materiál | K10: Jednotk. | L10: Spolu | M10: Jednotk. | N10: Spolu | O10: % | Q10: rozpočtované | R10: od začiatku | S10: dodatok | T10: z režimu stavba | U10: DPH ( materiál ) | V10: položky | Z10: produkcie | AA10: číslo | AB10: Ceny
B12: PRÁCE A DODÁVKY M
B13: M21 - 155 Elektromontáže
B14: M48 - Periodické prevádzkové revízie
D15: M48 - Periodické prevádzkové revízie spolu: | H15: 0 | I15: 0 | J15: 0 | L15: 0 | N15: 0 | W15: 0
D17: PRÁCE A DODÁVKY M spolu: | H17: =SUM(H15) -> 0 | I17: =SUM(I15) -> 0 | J17: =SUM(J15) -> 0 | L17: =SUM(L15) -> 0 | N17: =SUM(N15) -> 0 | W17: 53.513
D19: Za rozpočet celkom | H19: =SUM(H17) -> 0 | I19: =SUM(I17) -> 0 | J19: =SUM(J17) -> 0 | L19: =SUM(L17) -> 0 | N19: =SUM(N17) -> 0 | W19: 53.513

Sheet KL14
H1: Krycí list rozpočtu v EUR | Z1: V module | AA1: Hlavička1 | AB1: Mena | AC1: Hlavička2 | AD1: Obdobie
B2: Stavba : PREVÁDZKOVÁ BUDOVA DŽK - STANICA ČERMEĽ | G2: Miesto: | H2: DŹK, ČERMEĽ | J2: Rozpočet: | Z2: Rozpočet | AA2: Krycí list rozpočtu v | AB2: EUR
B3: Objekt : 01_Prevádzková budova | G3: KS : | J3: Spracoval: | K3: Ing. Milan GAJDOŠ, stavebný cenár | Z3: Čerpanie | AA3: Krycí list splátky v | AB3: EUR | AC3: za obdobie | AD3: Mesiac 2011
B4: Časť : Vykurovanie | J4: Dňa: | K4: 43158 | L4: Zmluva č.: | Z4: VK | AA4: Krycí list výrobnej kalkulácie v | AB4: EUR
B5: Odberateľ: | D5: OZ DŽK, o.z. | G5: 04013 | H5: KOŠICE | J5: IČO: | K5: ='KL13'!K5 -> 42241189 | L5: DIČ: | Z5: VF | AA5: Krycí list splátky v | AB5: EUR | AC5: za obdobie | AD5: Mesiac 2011
B6: Dodávateľ: | D6: vybraný výberovým konaním | J6: IČO: | L6: DIČ:
B7: Projektant: | D7: MGR. ART. TOMÁŠ HAVIAR | G7: 03601 | H7: MARTIN | J7: IČO: | L7: DIČ:
F8: 0 | I8: 0 | M8: 0
F9: 0 | I9: 0 | M9: 0
B10: A | C10: ZRN | D10: Konštrukcie | E10: Špecifikovaný materiál | F10: Spolu ZRN | G10: B | H10: IN - Individuálne náklady | J10: C | K10: NUS - náklady umiestnenia stavby
B11: 1 | C11: HSV: | D11: ='P14'!H19 -> 0 | E11: ='P14'!I20 -> 0 | F11: =SUM(D11:E11) -> 0 | G11: 6 | H11: Práce nadčas | I11: 0 | J11: 11 | K11: Zariadenie staveniska | L11: 0.009 | M11: =L11*F15 -> 0
B12: 2 | C12: PSV: | D12: ='P14'!H53 -> 0 | E12: ='P14'!I53 -> 0 | F12: =SUM(D12:E12) -> 0 | G12: 7 | H12: Murárske výpomoce | I12: 0 | J12: 12 | K12: Prevádzkové vplyvy | L12: 0 | M12: =L12*F15 -> 0
B13: 3 | C13: MCE: | D13: ='P14'!H60 -> 0 | E13: =SUM('P14'!I60) -> 0 | F13: =SUM(D13:E13) -> 0 | G13: 8 | H13: Bez pevnej podlahy | I13: 0 | J13: 13 | K13: Sťažené podmienky | L13: 0 | M13: =L13*F15 -> 0
B14: 4 | C14: Iiné: | F14: 0 | G14: 9 | H14: HZS | I14: 0 | J14: 14 | K14: Vplyv zmien cien vstupov | L14: 0 | M14: =L14*F15 -> 0
B15: 5 | C15: Súčet: | D15: =SUM(D11:D14) -> 0 | E15: =SUM(E11:E14) -> 0 | F15: =SUM(F11:F14) -> 0 | G15: 10 | H15: Súčet riadkov 6 až 9: | I15: =SUM(I11:I14) -> 0 | J15: 15 | L15: Súčet riadkov 11 až 14: | M15: =SUM(M11:M14) -> 0
B16: projektant, rozpočtár, cenár | G16: dodávateľ, zhotoviteľ | J16: D | K16: ON - ostatné náklady
C17: dátum: | D17: 43158 | E17: podpis: | J17: 16 | K17: Ostatné náklady uvedené v rozpočte | M17: 0
C18: pečiatka: | H18: dátum: | J18: 17 | K18: Inžinierska činnosť | M18: 0
J19: 18 | K19: Projektové práce | M19: 0
H20: podpis: | J20: 19 | K20: Komplet. činnosť | M20: 0
H21: pečiatka: | J21: 20 | L21: Súčet riadkov 16 až 19: | M21: =SUM(M17:M20) -> 0
B22: odberateľ, obstarávateľ | J22: E | K22: Celkové náklady
C23: dátum: | E23: podpis: | J23: 21 | L23: Súčet riadkov 5, 10, 15 a 20: | M23: =SUM(M21+M15+I15+F15) -> 0
C24: pečiatka: | J24: 22 | K24: DPH 20% z: | L24: =M23 -> 0 | M24: =SUM(L24*0.2) -> 0
J25: 23 | K25: DPH 0% z: | L25: =M23-L24 -> 0 | M25: 0
J26: 24 | L26: Súčet riadkov 21 až 23: | M26: =SUM(M23:M25) -> 0
J27: F | K27: Odpočet - prípočet | M27: 0

Sheet P14
A1: Odberateľ: OZ DŽK, o.z. | I1: Spracoval: Ing. Milan GAJDOŠ, stavebný cenár | Z1: V module | AA1: Hlavička1 | AB1: Mena | AC1: Hlavička2 | AD1: Obdobie
A2: Projektant: MGR. ART. TOMÁŠ HAVIAR | I2: JKSO : | Z2: Rozpočet | AA2: Prehľad rozpočtových nákladov v | AB2: EUR
A3: Dodávateľ: | I3: Dátum: 27.02.2018 | Z3: Čerpanie | AA3: Súpis vykonaných prác a dodávok v | AB3: EUR | AC3: za obdobie | AD3: Mesiac 2011
Z4: VK | AA4: Prehľad kalkulovaných nákladov v | AB4: EUR
A5: Stavba : PREVÁDZKOVÁ BUDOVA DŽK - STANICA ĎERMEĽ | Z5: VF | AA5: Súpis vykonaných prác a dodávok v | AB5: EUR | AC5: za obdobie | AD5: Mesiac 2011
A6: Objekt : 01_Prevádzková budova
A7: Časť : Vykurovanie
D8: Prehľad rozpočtových nákladov v EUR
A9: P. | B9: Kód | C9: Kód položky | D9: Popis položky, stavebného dielu, remesla, | E9: Množstvo | F9: Mer. | G9: Jednotková | H9: Konštrukcie | I9: Špecifikovaný | J9: Spolu | K9: Hmotnosť v tonách | M9: Suť v tonách | O9: DPH | P9: Pozícia | Q9: Množstvo | R9: Množstvo | S9: Množstvo | T9: Vyňatý | U9: Vysoká sadzba | V9: Typ | W9: Nh | X9: X | Y9: Y | Z9: Klasifikácia | AA9: Katalógové | AB9: Typ
A10: č.: | B10: cen. | D10: výkaz-výmer | E10: výmera | F10: jedn. | G10: cena | I10: materiál | K10: Jednotk. | L10: Spolu | M10: Jednotk. | N10: Spolu | O10: % | Q10: rozpočtované | R10: od začiatku | S10: dodatok | T10: z režimu stavba | U10: DPH ( materiál ) | V10: položky | Z10: produkcie | AA10: číslo | AB10: Ceny
B12: PRÁCE A DODÁVKY HSV
B13: 9 - OSTATNÉ KONŠTRUKCIE A PRÁCE
A14: 1 | B14: 014 | C14: 95376-4111 | D14: Dymovod pre kachle z plechu, DN 150 mm- len montáž | E14: 1.5 | F14: m | H14: =ROUND(E14*G14, 2) -> 0 | J14: =ROUND(H14+I14,2) -> 0 | O14: 20 | V14: E | W14: 3.39 | Z14: 45.45.13 | AB14: 3
A15: 2 | B15: MAT | C15: 541 1A9116 | D15: Rúra 1000 mm - DN 150 | E15: 1 | F15: kus | I15: =ROUND(G15*E15,2) -> 0 | J15: =ROUND(H15+I15,2) -> 0 | O15: 20 | V15: D | Z15: 29.72.20 | AB15: 2
A16: 3 | B16: MAT | C16: 541 1A9126 | D16: Koleno 90st.- DN 150 | E16: 1 | F16: kus | I16: =ROUND(G16*E16,2) -> 0 | J16: =ROUND(H16+I16,2) -> 0 | O16: 20 | V16: D | Z16: 29.72.20 | AB16: 2
A17: 4 | B17: MAT | C17: 541 1A9136 | D17: Zder 135 mm - DN 150 | E17: 1 | F17: kus | I17: =ROUND(G17*E17,2) -> 0 | J17: =ROUND(H17+I17,2) -> 0 | O17: 20 | V17: D | Z17: 29.72.20 | AB17: 2
A18: 5 | B18: MAT | C18: 541 1A91R1 | D18: Víčko na komín 150 | E18: 1 | F18: kus | I18: =ROUND(G18*E18,2) -> 0 | J18: =ROUND(H18+I18,2) -> 0
D19: 9 - OSTATNÉ KONŠTRUKCIE A PRÁCE spolu: | H19: =SUM(H14:H18) -> 0 | I19: =SUM(I14:I18) -> 0 | J19: =SUM(J14:J18) -> 0
D20: PRÁCE A DODÁVKY HSV | H20: =SUM(H19) -> 0 | I20: =SUM(I19) -> 0 | J20: =SUM(J19) -> 0
B21: PRÁCE A DODÁVKY PSV
B22: 732 - Strojovne
A23: 6 | B23: 731 | C23: 73221-9301 | D23: Montáž ohrievačov vody stojatých kombinovaných do 200 l | E23: 1 | F23: súbor | H23: =ROUND(E23*G23, 2) -> 0 | J23: =ROUND(H23+I23,2) -> 0 | O23: 20 | V23: I | W23: 2.824 | Z23: 45.33.11 | AB23: A
A24: 7 | B24: MAT | C24: 484 1D0810 | D24: Kombinovaný ohrievač vody 120l Dražice OKC 125 2 kW | E24: 1 | F24: kus | I24: =ROUND(G24*E24,2) -> 0 | J24: =ROUND(H24+I24,2) -> 0 | K24: 0.058 | L24: =ROUND(K24*E24,5) -> 0.058 | O24: 20 | V24: D | Z24: 28.30.13 | AB24: 2
A25: 8 | B25: 731 | C25: 73233-0433 | D25: Nádoba expanzná Reflex typ F plochý s membránou, tlak 6 barov,plastový povlak, objem 15 l | E25: 1 | F25: súbor | H25: =ROUND(E25*G25, 2) -> 0 | J25: =ROUND(H25+I25,2) -> 0 | K25: 0.0111 | L25: =ROUND(K25*E25,5) -> 0.0111 | O25: 20 | V25: I | W25: 0.265 | Z25: . . | AB25: A
A26: 9 | B26: 731 | C26: 73242-2311 | D26: Čerpadlo obehové teplov. závit. 15-14 rozst. 8 cm do 0,7 m3/h štand. kvalita | E26: 1 | F26: súbor | H26: =ROUND(E26*G26, 2) -> 0 | J26: =ROUND(H26+I26,2) -> 0 | K26: 0.0005 | L26: =ROUND(K26*E26,5) -> 0.0005 | O26: 20 | V26: I | W26: 0.456 | Z26: . . | AB26: B
D27: 732 - Strojovne spolu: | H27: =SUM(H23:H26) -> 0 | I27: =SUM(I23:I26) -> 0 | J27: =SUM(J23:J26) -> 0 | L27: =SUM(L23:L26) -> 0.0696 | N27: =SUM(N23:N26) -> 0 | W27: 8.185
B28: 733 - Rozvod potrubia
D29: 733 - Rozvod potrubia spolu: | H29: 0 | I29: 0 | J29: 0 | L29: 0 | N29: 0 | W29: 12.18
B30: 734 - Armatúry
A31: 10 | B31: 731 | C31: 73416-3412 | D31: Filter s výmennou vložkou D 71-117-616 P1 DN 25 | E31: 1 | F31: súbor | H31: =ROUND(E31*G31, 2) -> 0 | J31: =ROUND(H31+I31,2) -> 0 | K31: 0.00606 | L31: =ROUND(K31*E31,5) -> 0.00606 | O31: 20 | V31: I | W31: 0.777 | Z31: 45.33.11 | AB31: B
A32: 11 | B32: 731 | C32: 73421-1118 | D32: Ventil závitový odvzdušňovací G 1/4 PN 14 do 120°C automatický | E32: 4 | F32: kus | H32: =ROUND(E32*G32, 2) -> 0 | J32: =ROUND(H32+I32,2) -> 0 | K32: 0.00023 | L32: =ROUND(K32*E32,5) -> 0.00092 | O32: 20 | V32: I | W32: 0.196 | Z32: . . | AB32: B
A33: 12 | B33: 731 | C33: 73425-1114 | D33: Ventily poistné závitové P10-137-606 G 3/4 | E33: 4 | F33: kus | H33: =ROUND(E33*G33, 2) -> 0 | J33: =ROUND(H33+I33,2) -> 0 | K33: 0.001 | L33: =ROUND(K33*E33,5) -> 0.004 | O33: 20 | V33: I | W33: 0.824 | Z33: 45.33.11 | AB33: B
A34: 13 | B34: 731 | C34: 73422-2613 | D34: Ventil regul. závit. s hlavicou termost. ovlád. V4262A G 3/4 | E34: 4 | F34: kus | H34: =ROUND(E34*G34, 2) -> 0 | J34: =ROUND(H34+I34,2) -> 0 | K34: 0.001 | L34: 0.004 | O34: 20 | V34: I | W34: 0.864 | Z34: 45.33.11 | AB34: B
D35: 734 - Armatúry spolu: | H35: =SUM(H31:H34) -> 0 | I35: =SUM(I31:I34) -> 0 | J35: =SUM(J31:J34) -> 0 | L35: =SUM(L31:L34) -> 0.01498 | N35: =SUM(N32:N34) -> 0 | W35: 1.02
B36: 735 - Vykurovacie telesá
A37: 14 | B37: 731 | C37: 73541-9310 | D37: Montáž kúpeľňového vykurov.rebríka dl. do 2000 mm | E37: 1 | F37: súbor | H37: =ROUND(E37*G37, 2) -> 0 | J37: =ROUND(H37+I37,2) -> 0 | K37: 0.00021 | L37: 0.00021 | O37: 20 | V37: I | W37: 1.212 | Z37: 45.33.11 | AB37: A
A38: 15 | B38: MAT | C38: 920 AN65618 | D38: Rebrík vykurovací oblý KDO-E 600/1320 | E38: 1 | F38: kus | I38: =ROUND(G38*E38,2) -> 0 | J38: =ROUND(H38+I38,2) -> 0 | O38: 20 | V38: D | Z38: . . | AA38: 5441418 | AB38: 2
D39: 735 - Vykurovacie telesá spolu: | H39: =SUM(H37:H38) -> 0 | I39: =SUM(I37:I38) -> 0 | J39: =SUM(J37:J38) -> 0 | L39: =SUM(L37:L38) -> 0.00021 | N39: =SUM(N37:N38) -> 0 | W39: 3.088
B40: 795 - Lokálne kúrenie
A41: 16 | B41: 795 | C41: 79512-2215 | D41: Umiest. a osadenie krbových kachiel teplovodných, na drevo, 20 kW | E41: 1 | F41: kus | H41: =ROUND(E41*G41, 2) -> 0 | J41: =ROUND(H41+I41,2) -> 0 | O41: 20 | V41: I | W41: 1.006 | Z41: . . | AB41: A
D42: 1 = 1,000 | V42: a
A43: 17 | B43: MAT | C43: 541 101010 | D43: Kachle+Teplovodný výmenník, vykurovaný objem 300 m3 | E43: 1 | F43: kus | I43: =ROUND(G43*E43,2) -> 0 | J43: =ROUND(H43+I43,2) -> 0 | K43: 0.228 | L43: =ROUND(K43*E43,5) -> 0.228 | O43: 20 | V43: D | Z43: 29.72.12 | AB43: 2
D45: 795 - Lokálne kúrenie spolu: | H45: =SUM(H41:H44) -> 0 | I45: =SUM(I41:I44) -> 0 | J45: =SUM(J41:J44) -> 0 | L45: =SUM(L41:L44) -> 0.228 | N45: =SUM(N41:N44) -> 0 | W45: 4.266
B46: 999 - PSV ostatné
A47: 18 | B47: 700 | C47: 99999-7005 | D47: Konštrukcie a práce PSV, HZS T5 | E47: 15 | F47: hod | H47: =ROUND(E47*G47, 2) -> 0 | J47: =ROUND(H47+I47,2) -> 0 | O47: 20 | V47: I | W47: 15 | Z47: 45.34.32 | AB47: A
D48: "možné naviac práce a dodávky - dokumentácia pre stavebné povolenie" 15 = 15,000 | V48: a
A49: 19 | B49: 700 | C49: 99999-7006 | D49: Konštrukcie a práce PSV, HZS T6 | E49: 72 | F49: hod | H49: =ROUND(E49*G49, 2) -> 0 | J49: =ROUND(H49+I49,2) -> 0 | O49: 20 | V49: I | W49: 72 | Z49: 45.34.32 | AB49: A
D50: "vykurovacia skúška " 3*24 = 72,000 | V50: a
A51: 20 | B51: MAT | C51: 426 1H5211 | D51: Zmes nemrznúca propylénglykol REHAU - 350998-900 | E51: 20 | F51: l | I51: =ROUND(G51*E51,2) -> 0 | J51: =ROUND(H51+I51,2) -> 0 | O51: 20 | V51: D | Z51: 29.12.24 | AA51: 350998-900 | AB51: 2
D52: 999 - PSV ostatné spolu: | H52: =SUM(H47:H51) -> 0 | I52: =SUM(I47:I51) -> 0 | J52: =SUM(J47:J51) -> 0 | W52: 87
D53: PRÁCE A DODÁVKY PSV spolu: | H53: =SUM(H52+H45+H39+H35+H29+H27) -> 0 | I53: =SUM(I52+I45+I39+I35+I29+I27) -> 0 | J53: =SUM(J52+J45+J39+J35+J29+J27) -> 0 | L53: =SUM(L52+L45+L39+L35+L29+L27) -> 0.31279 | N53: =SUM(N52+N45+N39+N35+N29+N27) -> 0 | W53: 103.559
B54: PRÁCE A DODÁVKY M
B55: M21 - 155 Elektromontáže
A56: 21 | B56: 921 | C56: 2199990005 | D56: Elektromontáže - HZS T5 | E56: 2 | F56: hod | H56: =ROUND(E56*G56, 2) -> 0 | J56: =ROUND(H56+I56,2) -> 0 | O56: 20
A57: 22 | B57: MAT | C57: 484M0628*0X | D57: Automatický záložný zdroj pre elektrické zariadenia, ako sú obehové čerpadla Lumar NZ 600 L | E57: 1 | F57: kus | I57: =ROUND(G57*E57,2) -> 0 | J57: =ROUND(H57+I57,2) -> 0 | O57: 20
A58: 23 | B58: MAT | D58: Akumulátor AKUMA 12V 180Ah D3 | E58: 1 | F58: kus | I58: =ROUND(G58*E58,2) -> 0 | J58: =ROUND(H58+I58,2) -> 0 | O58: 20
D59: M21 - 155 Elektromontáže | H59: =SUM(H56:H58) -> 0 | I59: =SUM(I56:I58) -> 0 | J59: =SUM(J56:J58) -> 0
D60: PRÁCE A DODÁVKY M | H60: =SUM(H59) -> 0 | I60: =SUM(I59) -> 0 | J60: =SUM(J59) -> 0
D61: Za rozpočet celkom | H61: =SUM(H20+H60+H53) -> 0 | I61: =SUM(I20+I60+I53) -> 0 | J61: =SUM(J20+J60+J53) -> 0 | L61: =SUM(L20+L60+L53) -> 0.31279 | N61: =SUM(N20+N60+N53) -> 0 | W61: 103.559

Sheet KL15
H1: Krycí list rozpočtu v EUR | Z1: V module | AA1: Hlavička1 | AB1: Mena | AC1: Hlavička2 | AD1: Obdobie
B2: Stavba : PREVÁDZKOVÁ BUDOVA DŽK - STANICA ČERMEĽ | G2: Miesto: | H2: DŹK, ČERMEĽ | J2: Rozpočet: | Z2: Rozpočet | AA2: Krycí list rozpočtu v | AB2: EUR
B3: Objekt : 01_Prevádzková budova | G3: KS : | J3: Spracoval: | K3: Ing. Milan GAJDOŠ, stavebný cenár | Z3: Čerpanie | AA3: Krycí list splátky v | AB3: EUR | AC3: za obdobie | AD3: Mesiac 2011
B4: Časť : Zdravotechnika | J4: Dňa: | K4: 43158 | L4: Zmluva č.: | Z4: VK | AA4: Krycí list výrobnej kalkulácie v | AB4: EUR
B5: Odberateľ: | D5: OZ DŽK, o.z. | G5: 04013 | H5: KOŠICE | J5: IČO: | K5: ='KL14'!K5 -> 42241189 | L5: DIČ: | Z5: VF | AA5: Krycí list splátky v | AB5: EUR | AC5: za obdobie | AD5: Mesiac 2011
B6: Dodávateľ: | D6: vybraný výberovým konaním | J6: IČO: | L6: DIČ:
B7: Projektant: | D7: MGR. ART. TOMÁŠ HAVIAR | G7: 03601 | H7: MARTIN | J7: IČO: | L7: DIČ:
F8: 0 | I8: 0 | M8: 0
F9: 0 | I9: 0 | M9: 0
B10: A | C10: ZRN | D10: Konštrukcie | E10: Špecifikovaný materiál | F10: Spolu ZRN | G10: B | H10: IN - Individuálne náklady | J10: C | K10: NUS - náklady umiestnenia stavby
B11: 1 | C11: HSV: | D11: 0 | E11: 0 | F11: =SUM(D11:E11) -> 0 | G11: 6 | H11: Práce nadčas | I11: 0 | J11: 11 | K11: Zariadenie staveniska | L11: 0.009 | M11: =L11*F15 -> 0
B12: 2 | C12: PSV: | D12: ='P15'!H50 -> 0 | E12: ='P15'!I50 -> 0 | F12: =SUM(D12:E12) -> 0 | G12: 7 | H12: Murárske výpomoce | I12: 0 | J12: 12 | K12: Prevádzkové vplyvy | L12: 0 | M12: =L12*F15 -> 0
B13: 3 | C13: MCE: | F13: 0 | G13: 8 | H13: Bez pevnej podlahy | I13: 0 | J13: 13 | K13: Sťažené podmienky | L13: 0 | M13: =L13*F15 -> 0
B14: 4 | C14: Iiné: | F14: 0 | G14: 9 | H14: HZS | I14: 0 | J14: 14 | K14: Vplyv zmien cien vstupov | L14: 0 | M14: =L14*F15 -> 0
B15: 5 | C15: Súčet: | D15: =SUM(D11:D14) -> 0 | E15: =SUM(E11:E14) -> 0 | F15: =SUM(F11:F14) -> 0 | G15: 10 | H15: Súčet riadkov 6 až 9: | I15: =SUM(I11:I14) -> 0 | J15: 15 | L15: Súčet riadkov 11 až 14: | M15: =SUM(M11:M14) -> 0
B16: projektant, rozpočtár, cenár | G16: dodávateľ, zhotoviteľ | J16: D | K16: ON - ostatné náklady
C17: dátum: | D17: 43158 | E17: podpis: | J17: 16 | K17: Ostatné náklady uvedené v rozpočte | M17: 0
C18: pečiatka: | H18: dátum: | J18: 17 | K18: Inžinierska činnosť | M18: 0
J19: 18 | K19: Projektové práce | M19: 0
H20: podpis: | J20: 19 | K20: Komplet. činnosť | M20: 0
H21: pečiatka: | J21: 20 | L21: Súčet riadkov 16 až 19: | M21: =SUM(M17:M20) -> 0
B22: odberateľ, obstarávateľ | J22: E | K22: Celkové náklady
C23: dátum: | E23: podpis: | J23: 21 | L23: Súčet riadkov 5, 10, 15 a 20: | M23: =SUM(M21+M15+I15+F15) -> 0
C24: pečiatka: | J24: 22 | K24: DPH 20% z: | L24: =M23 -> 0 | M24: =SUM(L24*0.2) -> 0
J25: 23 | K25: DPH 0% z: | L25: =M23-L24 -> 0 | M25: 0
J26: 24 | L26: Súčet riadkov 21 až 23: | M26: =SUM(M23:M25) -> 0
J27: F | K27: Odpočet - prípočet | M27: 0

Sheet P15
A1: Odberateľ: OZ DŽK, o.z. | I1: Spracoval: Ing. Milan GAJDOŠ, stavebný cenár | Z1: V module | AA1: Hlavička1 | AB1: Mena | AC1: Hlavička2 | AD1: Obdobie
A2: Projektant: MGR. ART. TOMÁŠ HAVIAR | I2: JKSO : | Z2: Rozpočet | AA2: Prehľad rozpočtových nákladov v | AB2: EUR
A3: Dodávateľ: | I3: Dátum: 16.03.2018 | Z3: Čerpanie | AA3: Súpis vykonaných prác a dodávok v | AB3: EUR | AC3: za obdobie | AD3: Mesiac 2011
Z4: VK | AA4: Prehľad kalkulovaných nákladov v | AB4: EUR
A5: Stavba : PREVÁDZKOVÁ BUDOVA DŽK - STANICA ĎERMEĽ | Z5: VF | AA5: Súpis vykonaných prác a dodávok v | AB5: EUR | AC5: za obdobie | AD5: Mesiac 2011
A6: Objekt : 01_Prevádzková budova
A7: Časť : Zdravotechnika
D8: Prehľad rozpočtových nákladov v EUR
A9: P. | B9: Kód | C9: Kód položky | D9: Popis položky, stavebného dielu, remesla, | E9: Množstvo | F9: Mer. | G9: Jednotková | H9: Konštrukcie | I9: Špecifikovaný | J9: Spolu | K9: Hmotnosť v tonách | M9: Suť v tonách | O9: DPH | P9: Pozícia | Q9: Množstvo | R9: Množstvo | S9: Množstvo | T9: Vyňatý | U9: Vysoká sadzba | V9: Typ | W9: Nh | X9: X | Y9: Y | Z9: Klasifikácia | AA9: Katalógové | AB9: Typ
A10: č.: | B10: cen. | D10: výkaz-výmer | E10: výmera | F10: jedn. | G10: cena | I10: materiál | K10: Jednotk. | L10: Spolu | M10: Jednotk. | N10: Spolu | O10: % | Q10: rozpočtované | R10: od začiatku | S10: dodatok | T10: z režimu stavba | U10: DPH ( materiál ) | V10: položky | Z10: produkcie | AA10: číslo | AB10: Ceny
B12: PRÁCE A DODÁVKY PSV
B13: 721 - Vnútorná kanalizácia
A14: 7 | B14: 721 | C14: 72117-1109 | D14: Potrubie kanal. z PVC-U rúr hrdlových odpadné D 110x2,2 | E14: 4 | F14: m | H14: =ROUND(E14*G14, 2) -> 0 | J14: =ROUND(H14+I14,2) -> 0 | K14: 0.00203 | L14: =ROUND(K14*E14,5) -> 0.00812 | O14: 20 | V14: I | W14: 3.368 | Z14: 45.33.20 | AB14: B
D15: "vyvedenie stúpačiek na strechu" 2*2,000 = 4,000 | V15: a
A16: 8 | B16: 721 | C16: 72122-6121 | D16: Zápachová uzávierka sprchových vaní s guľovým kĺbom na odtoku DN 40/50 | E16: 1 | F16: kus | H16: =ROUND(E16*G16, 2) -> 0 | J16: =ROUND(H16+I16,2) -> 0 | K16: 0.00075 | L16: =ROUND(K16*E16,5) -> 0.00075 | O16: 20 | V16: I | W16: 0.124 | Z16: 45.33.20 | AB16: A
D17: "sprcha" 1 = 1,000
A18: 9 | B18: 721 | C18: 72127-3145 | D18: Ventilačné hlavice novodurové pr. 110/600 | E18: 2 | F18: kus | H18: =ROUND(E18*G18, 2) -> 0 | J18: =ROUND(H18+I18,2) -> 0 | K18: 0.00471 | L18: =ROUND(K18*E18,5) -> 0.00942 | O18: 20
A19: 10 | B19: 721 | C19: 99872-1201 | D19: Presun hmôt pre vnút. kanalizáciu v objektoch výšky do 6 m | E19: =SUM(J14:J18)/100 -> 0 | F19: % | H19: =ROUND(E19*G19, 2) -> 0 | J19: =ROUND(H19+I19,2) -> 0 | O19: 20 | V19: I | Z19: 45.33.30 | AB19: A
D20: 721 - Vnútorná kanalizácia spolu: | H20: =SUM(H14:H19) -> 0 | I20: =SUM(I14:I19) -> 0 | J20: =SUM(J14:J19) -> 0 | L20: =SUM(L14:L19) -> 0.01829 | N20: =SUM(N14:N19) -> 0 | W20: 3.492
B21: 725 - Zariaďovacie predmety
A22: 11 | B22: 721 | C22: 72511-2021 | D22: Zách. misa závesná s hlbokým splachovaním odpad vodorovný | E22: 2 | F22: súbor | H22: =ROUND(E22*G22, 2) -> 0 | J22: =ROUND(H22+I22,2) -> 0 | K22: 0.00039 | L22: =ROUND(K22*E22,5) -> 0.00078 | O22: 20 | V22: I | W22: 3.3 | Z22: . . | AB22: A
A23: 12 | B23: 721 | C23: 72511-6241 | D23: Montáž predstenového systému záchodov do ľahkých stien s kovovou konštrukciou | E23: 2 | F23: súbor | H23: =ROUND(E23*G23, 2) -> 0 | J23: =ROUND(H23+I23,2) -> 0 | O23: 20 | V23: I | W23: 6.783 | Z23: . . | AB23: A
A24: 13 | B24: MAT | C24: 642 3GE0021 | D24: WC závesné | E24: 2 | F24: kus | I24: =ROUND(G24*E24,2) -> 0 | J24: =ROUND(H24+I24,2) -> 0 | O24: 20 | V24: D | Z24: 28.75.11 | AA24: 111.510.00.1 | AB24: 2
A25: 14 | B25: 721 | C25: 72521-1603 | D25: Umývadlo keram pripev. na stenu skrutk biele bez krytu na sifón 600mmm | E25: 3 | F25: súbor | H25: =ROUND(E25*G25, 2) -> 0 | J25: =ROUND(H25+I25,2) -> 0 | K25: 0.00107 | L25: =ROUND(K25*E25,5) -> 0.00321 | O25: 20 | V25: I | W25: 3.3 | Z25: . . | AB25: A
A26: 15 | B26: 721 | C26: 72531-2111 | D26: Montáž drezov ostatných rozmerov a typov | E26: 1 | F26: súbor | H26: =ROUND(E26*G26, 2) -> 0 | J26: =ROUND(H26+I26,2) -> 0 | K26: 9e-05 | L26: 9e-05 | O26: 20 | V26: I | W26: 0.85 | Z26: . . | AB26: A
A27: 16 | B27: MAT | C27: 552 3B2001 | D27: Drez kuchynský 86x50 cm | E27: 1 | F27: kus | I27: =ROUND(G27*E27,2) -> 0 | J27: =ROUND(H27+I27,2) -> 0 | O27: 20 | V27: D | Z27: 26.22.10 | AA27: T 1029 | AB27: 2
A28: 17 | B28: 721 | C28: 72553-9001 | D28: Montáž zásobník elektr. prepadový s batériou do 10L | E28: 2 | F28: súbor | H28: =ROUND(E28*G28, 2) -> 0 | J28: =ROUND(H28+I28,2) -> 0 | K28: 0.00024 | L28: =ROUND(K28*E28,5) -> 0.00048 | O28: 20 | V28: I | W28: 2.028 | Z28: 45.33.20 | AB28: A
D29: "prietokový ohrievač P01, P02," 2= 2000 | V29: a
A30: 18 | B30: MAT | C30: 920 HKMK101 | D30: Ohrievač prietokový HAKL MK1 4,5 kW | E30: 1 | F30: kus | I30: =ROUND(G30*E30,2) -> 0 | J30: =ROUND(H30+I30,2) -> 0 | O30: 20 | V30: D | Z30: . . | AA30: 06300079 | AB30: 2
A31: 19 | B31: MAT | C31: 920 HKMK102 | D31: Ohrievač prietokový HAKL MK2 7 kW | E31: 1 | F31: kus | I31: =ROUND(G31*E31,2) -> 0 | J31: =ROUND(H31+I31,2) -> 0 | O31: 20 | V31: D | Z31: . . | AA31: 06300079 | AB31: 2
A32: 20 | B32: 721 | C32: 72582-9601 | D32: Montáž batérie umývadlovej jednopákovej do 1 otvoru | E32: 3 | F32: kus | H32: =ROUND(E32*G32, 2) -> 0 | J32: =ROUND(H32+I32,2) -> 0 | O32: 20 | V32: I | W32: 2.055 | Z32: 45.33.20 | AB32: A
A33: 21 | B33: MAT | C33: 551 440025 | D33: Batéria umývadlová jednopáková do 1 otvoru 1/2" | E33: 3 | F33: kus | I33: =ROUND(G33*E33,2) -> 0 | J33: =ROUND(H33+I33,2) -> 0 | K33: 0.0018 | L33: =ROUND(K33*E33,5) -> 0.0054 | O33: 20 | V33: D | Z33: 29.13.12 | AB33: 2
A34: 22 | B34: 721 | C34: 72582-9802 | D34: Montáž batérie drezovej 1-pákovej do 1 otvoru | E34: 1 | F34: kus | H34: =ROUND(E34*G34, 2) -> 0 | J34: =ROUND(H34+I34,2) -> 0 | O34: 20 | V34: I | W34: 0.685 | Z34: 45.33.20 | AB34: A
A35: 23 | B35: MAT | C35: 551 431740 | D35: Batéria drezová jednopáková do 1 otvoru | E35: 1 | F35: kus | I35: =ROUND(G35*E35,2) -> 0 | J35: =ROUND(H35+I35,2) -> 0 | K35: 0.00133 | L35: 0.00133 | O35: 20 | V35: D | Z35: 29.13.12 | AB35: 2
A36: 24 | B36: 721 | C36: 72584-0200 | D36: Batéria sprchová nástenná G 1/2 štandardná kvalita | E36: 1 | F36: súbor | H36: =ROUND(E36*G36, 2) -> 0 | J36: =ROUND(H36+I36,2) -> 0 | K36: 0.00312 | L36: =ROUND(K36*E36,5) -> 0.00312 | O36: 20 | V36: I | W36: 0.587 | Z36: 45.33.20 | AB36: B
A37: 25 | B37: 721 | C37: 99872-5201 | D37: Presun hmôt pre zariaď. predmety v objektoch výšky do 6 m | E37: =SUM(J22:J36)/100 -> 0 | F37: % | H37: =ROUND(E37*G37, 2) -> 0 | J37: =ROUND(H37+I37,2) -> 0 | O37: 20 | V37: I | Z37: 45.33.30 | AB37: A
D38: 725 - Zariaďovacie predmety spolu: | H38: =SUM(H22:H37) -> 0 | I38: =SUM(I22:I37) -> 0 | J38: =SUM(J22:J37) -> 0 | L38: =SUM(L22:L37) -> 0.01441 | N38: =SUM(N28:N37) -> 0 | W38: 22.138
B39: 766 - Konštrukcie stolárske
A40: 26 | B40: 766 | C40: 76681-2112 | D40: Montáž kuchynských liniek drev. na stenu dl. do 150cm | E40: 1 | F40: kus | H40: =ROUND(E40*G40, 2) -> 0 | J40: =ROUND(H40+I40,2) -> 0 | O40: 20 | V40: I | W40: 5.034 | Z40: 45.42.13 | AB40: A
A41: 27 | B41: MAT | C41: 615 684230 | D41: Doska pracovná 1200x600x32mm | E41: 1 | F41: kus | I41: =ROUND(G41*E41,2) -> 0 | J41: =ROUND(H41+I41,2) -> 0 | K41: 0.0264 | L41: =ROUND(K41*E41,5) -> 0.0264 | O41: 20 | V41: D | Z41: 36.14.15 | AB41: 2
A42: 28 | B42: MAT | C42: 615 8161*1 | D42: Súbor kuchynský S 120 cm | E42: 1 | F42: kus | I42: =ROUND(G42*E42,2) -> 0 | J42: =ROUND(H42+I42,2) -> 0 | K42: 0.118 | L42: =ROUND(K42*E42,5) -> 0.118 | O42: 20 | V42: D | Z42: 36.13.10 | AB42: 2
A43: 29 | B43: 766 | C43: 99876-6201 | D43: Presun hmôt pre konštr. stolárske v objektoch výšky do 6 m | E43: =SUM(J40:J42)/100 -> 0 | F43: % | H43: =ROUND(E43*G43, 2) -> 0 | J43: =ROUND(H43+I43,2) -> 0 | O43: 20 | V43: I | Z43: 45.42.13 | AB43: A
D44: 766 - Konštrukcie stolárske spolu: | H44: =SUM(H40:H43) -> 0 | I44: =SUM(I40:I43) -> 0 | J44: =SUM(J40:J43) -> 0 | L44: =SUM(L41:L43) -> 0.1444 | N44: 0 | W44: 5.034
B45: 999 - PSV ostatné
A46: 30 | B46: 700 | C46: 99999-7005 | D46: Konštrukcie a práce PSV, HZS T5 | E46: 15 | F46: hod | H46: =ROUND(E46*G46, 2) -> 0 | J46: =ROUND(H46+I46,2) -> 0 | O46: 20 | V46: I | W46: 15 | Z46: 45.34.32 | AB46: A
D47: "práce neobsiahnuté v projektovej dokumentácii pre stavebné povolenie" 15 = 15,000 | V47: a
A48: 31 | B48: MAT | C48: 5421A0500 | D48: Sušič rúk elektr. | E48: 2 | I48: =ROUND(G48*E48,2) -> 0 | J48: =ROUND(H48+I48,2) -> 0
D49: 999 - PSV ostatné spolu: | H49: =SUM(H46:H47) -> 0 | I49: =SUM(I48) -> 0 | J49: =SUM(J48+J46) -> 0 | W49: 15
D50: PRÁCE A DODÁVKY PSV spolu: | H50: =SUM(H49+H38+H44+H20) -> 0 | I50: =SUM(I49+I38+I44+I20) -> 0 | J50: =SUM(J49+J38+J44+J20) -> 0 | L50: =SUM(L49+L38+L44+L20) -> 0.1771 | N50: =SUM(N49+N38+N44+N20) -> 0 | W50: 40.63
D51: Za rozpočet celkom | H51: =H50 -> 0 | I51: =I50 -> 0 | J51: =J50 -> 0 | L51: =L50 -> 0.1771 | N51: =N50 -> 0 | W51: 40.63

Sheet KL16
H1: Krycí list rozpočtu v EUR | Z1: V module | AA1: Hlavička1 | AB1: Mena | AC1: Hlavička2 | AD1: Obdobie
B2: Stavba : PREVÁDZKOVÁ BUDOVA DŽK - STANICA ČERMEĽ | G2: Miesto: | H2: DŹK, ČERMEĽ | J2: Rozpočet: | Z2: Rozpočet | AA2: Krycí list rozpočtu v | AB2: EUR
B3: Objekt : 01_Prevádzková budova | G3: KS : | J3: Spracoval: | K3: Ing. Milan GAJDOŠ, stavebný cenár | Z3: Čerpanie | AA3: Krycí list splátky v | AB3: EUR | AC3: za obdobie | AD3: Mesiac 2011
B4: Časť : 16 Zabezpečovacie zariadenie | J4: Dňa: | K4: 43158 | L4: Zmluva č.: | Z4: VK | AA4: Krycí list výrobnej kalkulácie v | AB4: EUR
B5: Odberateľ: | D5: OZ DŽK, o.z. | G5: 04013 | H5: KOŠICE | J5: IČO: | K5: ='KL15'!K5 -> 42241189 | L5: DIČ: | Z5: VF | AA5: Krycí list splátky v | AB5: EUR | AC5: za obdobie | AD5: Mesiac 2011
B6: Dodávateľ: | D6: vybraný výberovým konaním | J6: IČO: | L6: DIČ:
B7: Projektant: | D7: MGR. ART. TOMÁŠ HAVIAR | G7: 03601 | H7: MARTIN | J7: IČO: | L7: DIČ:
F8: 0 | I8: 0 | M8: 0
F9: 0 | I9: 0 | M9: 0
B10: A | C10: ZRN | D10: Konštrukcie | E10: Špecifikovaný materiál | F10: Spolu ZRN | G10: B | H10: IN - Individuálne náklady | J10: C | K10: NUS - náklady umiestnenia stavby
B11: 1 | C11: HSV: | F11: =SUM(D11:E11) -> 0 | G11: 6 | H11: Práce nadčas | I11: 0 | J11: 11 | K11: Zariadenie staveniska | L11: 0.009 | M11: =L11*F15 -> 0
B12: 2 | C12: PSV: | F12: =SUM(D12:E12) -> 0 | G12: 7 | H12: Murárske výpomoce | I12: 0 | J12: 12 | K12: Prevádzkové vplyvy | L12: 0 | M12: =L12*F15 -> 0
B13: 3 | C13: MCE: | D13: ='P16'!H45 -> 0 | E13: ='P16'!I45 -> 0 | F13: =SUM(D13:E13) -> 0 | G13: 8 | H13: Bez pevnej podlahy | I13: 0 | J13: 13 | K13: Sťažené podmienky | L13: 0 | M13: =L13*F15 -> 0
B14: 4 | C14: Iiné: | F14: 0 | G14: 9 | H14: HZS | I14: 0 | J14: 14 | K14: Vplyv zmien cien vstupov | L14: 0 | M14: =L14*F15 -> 0
B15: 5 | C15: Súčet: | D15: =SUM(D11:D14) -> 0 | E15: =SUM(E11:E14) -> 0 | F15: =SUM(F11:F14) -> 0 | G15: 10 | H15: Súčet riadkov 6 až 9: | I15: =SUM(I11:I14) -> 0 | J15: 15 | L15: Súčet riadkov 11 až 14: | M15: =SUM(M11:M14) -> 0
B16: projektant, rozpočtár, cenár | G16: dodávateľ, zhotoviteľ | J16: D | K16: ON - ostatné náklady
C17: dátum: | D17: 43158 | E17: podpis: | J17: 16 | K17: Ostatné náklady uvedené v rozpočte | M17: 0
C18: pečiatka: | H18: dátum: | J18: 17 | K18: Inžinierska činnosť | M18: 0
J19: 18 | K19: Projektové práce | M19: 0
H20: podpis: | J20: 19 | K20: Komplet. činnosť | M20: 0
H21: pečiatka: | J21: 20 | L21: Súčet riadkov 16 až 19: | M21: =SUM(M17:M20) -> 0
B22: odberateľ, obstarávateľ | J22: E | K22: Celkové náklady
C23: dátum: | E23: podpis: | J23: 21 | L23: Súčet riadkov 5, 10, 15 a 20: | M23: =SUM(M21+M15+I15+F15) -> 0
C24: pečiatka: | J24: 22 | K24: DPH 20% z: | L24: =M23 -> 0 | M24: =SUM(L24*0.2) -> 0
J25: 23 | K25: DPH 0% z: | L25: =M23-L24 -> 0 | M25: 0
J26: 24 | L26: Súčet riadkov 21 až 23: | M26: =SUM(M23:M25) -> 0
J27: F | K27: Odpočet - prípočet | M27: 0

Sheet P16
A1: Odberateľ: | C1: OZ DŽK, o.z. | I1: Spracoval: Ing. Milan GAJDOŠ, stavebný cenár | Z1: V module | AA1: Hlavička1 | AB1: Mena | AC1: Hlavička2 | AD1: Obdobie
A2: Projektant: MGR. ART. TOMÁŠ HAVIAR MGR. ART. TOMÁŠ HAVIAR | I2: JKSO : | Z2: Rozpočet | AA2: Prehľad rozpočtových nákladov v | AB2: EUR
A3: Dodávateľ: | I3: Dátum: 27.02.2018 | Z3: Čerpanie | AA3: Súpis vykonaných prác a dodávok v | AB3: EUR | AC3: za obdobie | AD3: Mesiac 2011
Z4: VK | AA4: Prehľad kalkulovaných nákladov v | AB4: EUR
A5: Stavba : PREVÁDZKOVÁ BUDOVA DŽK - STANICA ĎERMEĽ | Z5: VF | AA5: Súpis vykonaných prác a dodávok v | AB5: EUR | AC5: za obdobie | AD5: Mesiac 2011
A6: Objekt : 01_Prevádzková budova
A7: Časť : Zabezpečovacie zariadenie
D8: Prehľad rozpočtových nákladov v EUR
A9: P. | B9: Kód | C9: Kód položky | D9: Popis položky, stavebného dielu, remesla, | E9: Množstvo | F9: Mer. | G9: Jednotková | H9: Konštrukcie | I9: Špecifikovaný | J9: Spolu | K9: Hmotnosť v tonách | M9: Suť v tonách | O9: DPH | P9: Pozícia | Q9: Množstvo | R9: Množstvo | S9: Množstvo | T9: Vyňatý | U9: Vysoká sadzba | V9: Typ | W9: Nh | X9: X | Y9: Y | Z9: Klasifikácia | AA9: Katalógové | AB9: Typ
A10: č.: | B10: cen. | D10: výkaz-výmer | E10: výmera | F10: jed. | G10: cena | I10: materiál | K10: Jednotková | L10: Spolu | M10: Jednotková | N10: Spolu | O10: % | Q10: rozpočtované | R10: od začiatku | S10: dodatok | T10: z režimu stavba | U10: DPH ( materiál ) | V10: položky | Z10: produkcie | AA10: číslo | AB10: Ceny
B12: PRÁCE A DODÁVKY M
B13: M22 - 156 Montáž oznamovacích, signalizačných a zabezpečovacích zariadení
B14: Zabezpečovací systém
A15: 1 | B15: 922 | C15: 22027-0012 | D15: Montáž, vodič Up 3x0,5 uložený pod omietku | E15: 100 | F15: m | H15: =ROUND(E15*G15,2) -> 0 | J15: =ROUND(I15+H15,2) -> 0
A16: 2 | B16: MAT | C16: 341 810M005 | D16: Kábel na prenos dát CAT3 : PCEHY 100 1x2x0,5 | E16: 100 | F16: m | I16: =ROUND(G16*E16,2) -> 0 | J16: =ROUND(I16+H16,2) -> 0
A17: 3 | B17: 922 | C17: 2200 - | D17: Montáž zabezpečovacieho zariadenia | E17: 1 | F17: kompl | H17: =ROUND(E17*G17,2) -> 0 | J17: =ROUND(I17+H17,2) -> 0 | O17: 20
A18: 4 | B18: MAT | C18: 382 **00001 | D18: Paradox SPECTRA SP5500 5(10) zónová ústredňa | E18: 1 | F18: kpl | I18: =ROUND(G18*E18,2) -> 0 | J18: =ROUND(I18+H18,2) -> 0 | O18: 20
D19: "Set obsahuje:" 1 = 1,000
D20: "Paradox SPECTRA SP5500 5(10) zónová ústredňa "
D21: "1 ks klávesnica LCD TM50"
D22: "kovová skrinka "
D23: napájací zdroj
D24: "10ks PIR pohybové čidlo Paradox 476 alebo AMC SMILE 19/P- PIR PET "
D25: "GSM modul PCS250G"
D26: "externá siréna SP 5010R "
D27: "akumulátor 12V 7,2Ah."
A28: 5 | B28: MAT | C28: 382 **00099 | D28: Čidlo | E28: 6 | F28: ks | I28: =ROUND(G28*E28,2) -> 0 | J28: =ROUND(I28+H28,2) -> 0 | O28: 20
A29: 6 | B29: MAT | C29: 382 **00020 | D29: Klávesnica LCD TM50 | E29: 2 | F29: kpl | I29: =ROUND(G29*E29,2) -> 0 | J29: =ROUND(I29+H29,2) -> 0 | O29: 20
A30: 7 | B30: MAT | C30: 374 9223A07 | D30: Siréna : SR150, rádiová, vonkajšia pre MAGELLAN, MG a SPECTRA SP | E30: 1 | F30: kus | I30: =ROUND(G30*E30,2) -> 0 | J30: =ROUND(I30+H30,2) -> 0
A31: 8 | B31: 948 | C31: 48000-0001 | D31: Revízia | E31: 1 | F31: kpl | H31: =ROUND(E31*G31,2) -> 0 | J31: =ROUND(I31+H31,2) -> 0
D32: Zabezpečovací systém | H32: =SUM(H15:H31) -> 0 | I32: =SUM(I15:I31) -> 0 | J32: =SUM(J15:J31) -> 0
B33: Kamerový systém
A34: 9 | B34: 921 | C34: 21080-3511 | D34: Montáž, kábel koaxiálny uložený pevne VCEOY 50-1,5 | E34: 100 | F34: m | H34: =ROUND(E34*G34,2) -> 0 | J34: =ROUND(I34+H34,2) -> 0 | K34: 0.00203 | L34: 0.203 | O34: 20 | V34: M | W34: 7.9 | Z34: 45.31.1* | AB34: A
A35: 10 | B35: MAT | C35: 341 802M010 | D35: Kábel koaxiálny VCCKY 75-3,7 | E35: 100 | F35: m | I35: =ROUND(G35*E35,2) -> 0 | J35: =ROUND(I35+H35,2) -> 0 | O35: 20 | V35: D | Z35: 31.30.12 | AA35: VCCKY 75-3,7 | AB35: 2
A36: 11 | B36: 922 | C36: 22027-0012 | D36: Montáž, vodič Up 3x0,5 uložený pod omietku | E36: 100 | F36: m | H36: =ROUND(E36*G36,2) -> 0 | J36: =ROUND(I36+H36,2) -> 0
A37: 12 | B37: MAT | C37: 341 810M005 | D37: Kábel na prenos dát CAT3 : PCEHY 100 1x2x0,5 | E37: 100 | F37: m | I37: =ROUND(G37*E37,2) -> 0 | J37: =ROUND(I37+H37,2) -> 0
A38: 13 | B38: 922 | C38: 22032-0706 | D38: Montáž kamery | E38: 8 | F38: kus | H38: =ROUND(E38*G38,2) -> 0 | J38: =ROUND(I38+H38,2) -> 0
A39: 14 | B39: MAT | C39: 374 92J0272 | D39: GSM kamera s rýchlým 3G prenosom dát; | E39: 8 | F39: kus | I39: =ROUND(G39*E39,2) -> 0 | J39: =ROUND(I39+H39,2) -> 0
A40: 15 | B40: MAT | C40: 405 M000DVR | D40: Nahrávač DVR | E40: 1 | F40: kus | I40: =ROUND(G40*E40,2) -> 0 | J40: =ROUND(I40+H40,2) -> 0
A41: 16 | B41: MAT | C41: 310040 | D41: Legrand UPS KEOR MP 600VA, off-line, 600VA / 360W , FR, USB komunikacia | E41: 1 | F41: kpl | I41: =ROUND(G41*E41,2) -> 0 | J41: =ROUND(I41+H41,2) -> 0
A42: 17 | B42: 948 | C42: 48000-0001 | D42: Revízia | E42: 1 | F42: kpl | H42: =ROUND(E42*G42,2) -> 0 | J42: =ROUND(I42+H42,2) -> 0
D43: Kamerový systém | H43: =SUM(H36:H42) -> 0 | I43: =SUM(I36:I42) -> 0 | J43: =SUM(J36:J42) -> 0
D44: M22 - 156 Montáž oznamovacích, signalizačných a zabezpečovacích zariadení | H44: =SUM(H43+H32) -> 0 | I44: =SUM(I43+I32) -> 0 | J44: =SUM(J43+J32) -> 0
D45: PRÁCE A DODÁVKY M | H45: =SUM(H44) -> 0 | I45: =SUM(I44) -> 0 | J45: =SUM(J44) -> 0

Sheet KL2
H1: Krycí list rozpočtu v EUR | Z1: V module | AA1: Hlavička1 | AB1: Mena | AC1: Hlavička2 | AD1: Obdobie
B2: Stavba : PREVÁDZKOVÁ BUDOVA DŽK - STANICA ČERMEĽ | G2: Miesto: | H2: DŽK, ČERMEĽ | J2: Rozpočet: | Z2: Rozpočet | AA2: Krycí list rozpočtu v | AB2: EUR
B3: Objekt : 02_Splášková kanalizácia | G3: KS : | J3: Spracoval: | K3: Ing. Milan GAJDOŠ, stavebný cenár | Z3: Čerpanie | AA3: Krycí list splátky v | AB3: EUR | AC3: za obdobie | AD3: Mesiac 2011
B4: Časť : | J4: Dňa: | K4: 43158 | L4: Zmluva č.: | Z4: VK | AA4: Krycí list výrobnej kalkulácie v | AB4: EUR
B5: Odberateľ: | D5: OZ DŽK, o.z. | G5: 04013 | H5: KOŠICE | J5: IČO: | K5: ='KL16'!K5 -> 42241189 | L5: DIČ: | Z5: VF | AA5: Krycí list splátky v | AB5: EUR | AC5: za obdobie | AD5: Mesiac 2011
B6: Dodávateľ: | D6: vybraný výberovým konaním | J6: IČO: | L6: DIČ:
B7: Projektant: | D7: MGR. ART. TOMÁŠ HAVIAR | G7: 03601 | H7: MARTIN | J7: IČO: | L7: DIČ:
F8: 0 | I8: 0 | M8: 0
F9: 0 | I9: 0 | M9: 0
B10: A | C10: ZRN | D10: Konštrukcie | E10: Špecifikovaný materiál | F10: Spolu ZRN | G10: B | H10: IN - Individuálne náklady | J10: C | K10: NUS - náklady umiestnenia stavby
B11: 1 | C11: HSV: | D11: ='P2'!H105 -> 0 | E11: ='P2'!I101 -> 0 | F11: =SUM(D11:E11) -> 0 | G11: 6 | H11: Práce nadčas | I11: 0 | J11: 11 | K11: Zariadenie staveniska | L11: 0.02 | M11: =L11*F15 -> 0
B12: 2 | C12: PSV: | F12: =SUM(D12:E12) -> 0 | G12: 7 | H12: Murárske výpomoce | I12: 0 | J12: 12 | K12: Prevádzkové vplyvy | L12: 0 | M12: =L12*F15 -> 0
B13: 3 | C13: MCE: | D13: 0 | F13: =SUM(D13:E13) -> 0 | G13: 8 | H13: Bez pevnej podlahy | I13: 0 | J13: 13 | K13: Sťažené podmienky | L13: 0 | M13: =L13*F15 -> 0
B14: 4 | C14: Iiné: | F14: 0 | G14: 9 | H14: HZS | I14: 0 | J14: 14 | K14: Vplyv zmien cien vstupov | L14: 0 | M14: =L14*F15 -> 0
B15: 5 | C15: Súčet: | D15: =SUM(D11:D14) -> 0 | E15: =SUM(E11:E14) -> 0 | F15: =SUM(F11:F14) -> 0 | G15: 10 | H15: Súčet riadkov 6 až 9: | I15: =SUM(I11:I14) -> 0 | J15: 15 | L15: Súčet riadkov 11 až 14: | M15: =SUM(M11:M14) -> 0
B16: projektant, rozpočtár, cenár | G16: dodávateľ, zhotoviteľ | J16: D | K16: ON - ostatné náklady
C17: dátum: | D17: 43158 | E17: podpis: | J17: 16 | K17: Ostatné náklady uvedené v rozpočte | M17: 0
C18: pečiatka: | H18: dátum: | J18: 17 | K18: Inžinierska činnosť | M18: 0
J19: 18 | K19: Projektové práce | M19: 0
H20: podpis: | J20: 19 | K20: Komplet. činnosť | M20: 0
H21: pečiatka: | J21: 20 | L21: Súčet riadkov 16 až 19: | M21: =SUM(M17:M20) -> 0
B22: odberateľ, obstarávateľ | J22: E | K22: Celkové náklady
C23: dátum: | E23: podpis: | J23: 21 | L23: Súčet riadkov 5, 10, 15 a 20: | M23: =SUM(M21+M15+I15+F15) -> 0
C24: pečiatka: | J24: 22 | K24: DPH 20% z: | L24: =M23 -> 0 | M24: =SUM(L24*0.2) -> 0
J25: 23 | K25: DPH 0% z: | L25: =M23-L24 -> 0 | M25: 0
J26: 24 | L26: Súčet riadkov 21 až 23: | M26: =SUM(M23:M25) -> 0
J27: F | K27: Odpočet - prípočet | M27: 0

Sheet P2
A1: Odberateľ: | C1: OZ DŽK, o.z. | I1: Spracoval: Ing. Milan GAJDOŠ, stavebný cenár | Z1: V module | AA1: Hlavička1 | AB1: Mena | AC1: Hlavička2 | AD1: Obdobie
A2: Projektant: MGR. ART. TOMÁŠ HAVIAR | I2: JKSO : | Z2: Rozpočet | AA2: Prehľad rozpočtových nákladov v | AB2: EUR
A3: Dodávateľ: | I3: Dátum:16.03.2018 | Z3: Čerpanie | AA3: Súpis vykonaných prác a dodávok v | AB3: EUR | AC3: za obdobie | AD3: Mesiac 2011
Z4: VK | AA4: Prehľad kalkulovaných nákladov v | AB4: EUR
A5: Stavba : PREVÁDZKOVÁ BUDOVA DŽK - STANICA ĎERMEĽ | Z5: VF | AA5: Súpis vykonaných prác a dodávok v | AB5: EUR | AC5: za obdobie | AD5: Mesiac 2011
A6: Objekt : 02_Areálová splášková kanalizácia
D8: Prehľad rozpočtových nákladov v EUR
A9: P. | B9: Kód | C9: Kód položky | D9: Popis položky, stavebného dielu, remesla, | E9: Množstvo | F9: Mer. | G9: Jednotková | H9: Konštrukcie | I9: Špecifikovaný | J9: Spolu | K9: Hmotnosť v tonách | M9: Suť v tonách | O9: DPH | P9: Pozícia | Q9: Množstvo | R9: Množstvo | S9: Množstvo | T9: Vyňatý | U9: Vysoká sadzba | V9: Typ | W9: Nh | X9: X | Y9: Y | Z9: Klasifikácia | AA9: Katalógové | AB9: Typ
A10: č.: | B10: cen. | D10: výkaz-výmer | E10: výmera | F10: jedn. | G10: cena | I10: materiál | K10: Jednot. | L10: Spolu | M10: Jednot. | N10: Spolu | O10: % | Q10: rozpočtované | R10: od začiatku | S10: dodatok | T10: z režimu stavba | U10: DPH ( materiál ) | V10: položky | Z10: produkcie | AA10: číslo | AB10: Ceny
B12: PRÁCE A DODÁVKY HSV
B13: 1 - ZEMNE PRÁCE
A14: 1 | B14: 272 | C14: 13120-1101 | D14: Hĺbenie jám nezapaž. v horn. tr. 3 do 100 m3 | E14: 77.952 | F14: m3 | H14: =ROUND(G14*E14,2) -> 0 | J14: =ROUND(I14+H14,2) -> 0 | O14: 20 | V14: E | W14: 44.822 | Z14: 45.11.21 | AB14: A
D15: (3,600+2*0,600)*(2,800+2*0,600)*(2,100-0,200+1,860+0,150+0,03+0,120) = 77,952 | V15: a
D16: . | V16: a
A17: 2 | B17: 272 | C17: 13120-1109 | D17: Príplatok za lepivosť v horn. tr. 3 | E17: 23.386 | F17: m3 | H17: =ROUND(G17*E17,2) -> 0 | J17: =ROUND(I17+H17,2) -> 0 | O17: 20 | V17: E | W17: 0.935 | Z17: 45.11.21 | AB17: A
D18: (3,600+2*0,600)*(2,800+2*0,600)*(2,100-0,200+1,860+0,150+0,03+0,120)*30/100 = 23,386 | V18: a
A19: 3 | B19: 272 | C19: 13220-1101 | D19: Hĺbenie rýh šírka do 60 cm v horn. tr. 3 do 100 m3 | E19: 17.813 | F19: m3 | H19: =ROUND(G19*E19,2) -> 0 | J19: =ROUND(I19+H19,2) -> 0 | O19: 20 | V19: E | W19: 34.985 | Z19: 45.11.21 | AB19: A
D20: (1,200+1,250)/2*0,600*2,000 = 1,470 | V20: a
D21: (1,250+2,000)/2*0,600*15,500 = 15,113 | V21: a
D22: (2,000+2,100)/2*0,600*1,000 = 1,230 | V22: a
A23: 4 | B23: 272 | C23: 13220-1109 | D23: Príplatok za lepivosť horniny tr. 3 v rýhach š. do 60 cm | E23: 5.344 | F23: m3 | H23: =ROUND(G23*E23,2) -> 0 | J23: =ROUND(I23+H23,2) -> 0 | O23: 20 | V23: E | W23: 1.47 | Z23: 45.11.21 | AB23: A
D24: (1,200+1,250)/2*0,600*2,000*30/100 = 0,441 | V24: a
D25: (1,250+2,000)/2*0,600*15,500*30/100 = 4,534 | V25: a
D26: (2,000+2,100)/2*0,600*1,000*30/100 = 0,369 | V26: a
A27: 5 | B27: 272 | C27: 15110-1101 | D27: Zhotovenie paženia rýh pre podz. vedenie príložné hl. do 2 m | E27: 59.375 | F27: m2 | H27: =ROUND(G27*E27,2) -> 0 | J27: =ROUND(I27+H27,2) -> 0 | K27: 0.00021 | L27: =ROUND(K27*E27,5) -> 0.01247 | O27: 20 | V27: E | W27: 14.013 | Z27: 45.11.21 | AB27: B
D28: 2*(1,200+1,250)/2*2,000 = 4,900 | V28: a
D29: 2*(1,250+2,000)/2*15,500 = 50,375 | V29: a
D30: 2*(2,000+2,100)/2*1,000 = 4,100 | V30: a
A31: 6 | B31: 272 | C31: 15110-1111 | D31: Odstránenie paženia rýh pre podz. vedenie príložné hl. do 2 m | E31: 59.375 | F31: m2 | H31: =ROUND(G31*E31,2) -> 0 | J31: =ROUND(I31+H31,2) -> 0 | O31: 20 | V31: E | W31: 4.156 | Z31: 45.11.21 | AB31: A
A32: 7 | B32: 272 | C32: 15110-1201 | D32: Zhotovenie paženia stien výkopu príložné hl. do 4 m | E32: 71.456 | F32: m2 | H32: =ROUND(G32*E32,2) -> 0 | J32: =ROUND(I32+H32,2) -> 0 | K32: 0.00025 | L32: =ROUND(K32*E32,5) -> 0.01786 | O32: 20 | V32: E | W32: 11.147 | Z32: 45.11.21 | AB32: B
D33: 2*((3,600+2*0,600)+(2,800+2*0,600))*(2,100-0,200+1,860+0,150+0,03+0,120) = 71,456 | V33: a
A34: 8 | B34: 272 | C34: 15110-1211 | D34: Odstránenie paženia stien výkopu príložné hl. do 4 m | E34: 71.456 | F34: m2 | H34: =ROUND(G34*E34,2) -> 0 | J34: =ROUND(I34+H34,2) -> 0 | O34: 20 | V34: E | W34: 6.788 | Z34: 45.11.21 | AB34: A
A35: 9 | B35: 001 | C35: 15110-1301 | D35: Zhotovenie rozopretia stien príložného paženia hĺbka do 4 m | E35: 71.456 | F35: m3 | H35: =ROUND(G35*E35,2) -> 0 | J35: =ROUND(I35+H35,2) -> 0 | K35: 0.00045 | L35: =ROUND(K35*E35,5) -> 0.03216 | O35: 20 | V35: E | W35: 9.003 | Z35: 45.11.21 | AB35: A
A36: 10 | B36: 001 | C36: 15110-1311 | D36: Odstránenie rozopretia stien príložného paženia hĺbka do 4 m | E36: 71.456 | F36: m3 | H36: =ROUND(G36*E36,2) -> 0 | J36: =ROUND(I36+H36,2) -> 0 | O36: 20 | V36: E | W36: 2.715 | Z36: 45.11.21 | AB36: A
A37: 11 | B37: 272 | C37: 16110-1101 | D37: Zvislé premiestnenie výkopu horn. tr. 1-4 nad 1 m do 2,5 m | E37: 95.765 | F37: m3 | H37: =ROUND(G37*E37,2) -> 0 | J37: =ROUND(I37+H37,2) -> 0 | O37: 20 | V37: E | W37: 30.358 | Z37: 45.11.24 | AB37: A
D38: 77,952+17,813 = 95,765 | V38: a
A39: 12 | B39: 272 | C39: 16230-1102 | D39: Vodorovné premiestnenie výkopu do 1000 m horn. tr. 1-4 | E39: 24.015 | F39: m3 | H39: =ROUND(G39*E39,2) -> 0 | J39: =ROUND(I39+H39,2) -> 0 | O39: 20 | V39: E | W39: 0.264 | Z39: 45.11.24 | AB39: A
D40: "výkop" 95,765 = 95,765 | V40: a
D41: "obsyp" -8,326 = -8,326 | V41: a
D42: "zásyp" -63,424 = -63,424 | V42: a
A43: 13 | B43: 001 | C43: 16610-1101 | D43: Prehodenie výkopku v horn. tr. 1-4 | E43: 8.326 | F43: m3 | H43: =ROUND(G43*E43,2) -> 0 | J43: =ROUND(I43+H43,2) -> 0 | O43: 20 | V43: E | W43: 2.415 | Z43: 45.11.24 | AB43: B
D44: (1,200+1,250)/2*0,600*(0,200+0,300)*2,000-3,14*0,200*0,200/4*2,000 = 0,672 | V44: a
D45: (1,250+2,000)/2*0,600*(0,200+0,300)*15,500-3,14*0,200*0,200/4*15,500 = 7,070 | V45: a
D46: (2,000+2,100)/2*0,600*(0,200+0,300)*1,000-3,14*0,200*0,200/4*1,000 = 0,584 | V46: a
D47: . | V47: a
A48: 14 | B48: 272 | C48: 16710-1101 | D48: Nakladanie výkopku do 100 m3 v horn. tr. 1-4 | E48: 24.015 | F48: m3 | H48: =ROUND(G48*E48,2) -> 0 | J48: =ROUND(I48+H48,2) -> 0 | O48: 20 | V48: E | W48: 14.409 | Z48: 45.11.21 | AB48: A
A49: 14 | B49: 272 | C49: 17120-1201 | D49: Uloženie sypaniny na skládku | E49: 24.015 | F49: m3 | H49: =ROUND(G49*E49,2) -> 0 | J49: =ROUND(I49+H49,2) -> 0 | O49: 20 | V49: E | W49: 0.216 | Z49: 45.11.24 | AB49: A
A50: 16 | B50: 272 | C50: 17410-1101 | D50: Zásyp zhutnený jám, rýh, šachiet alebo okolo objektu | E50: 63.424 | F50: m3 | H50: =ROUND(G50*E50,2) -> 0 | J50: =ROUND(I50+H50,2) -> 0 | O50: 20 | V50: E | W50: 17.505 | Z50: 45.11.21 | AB50: A
D51: 77,952+17,813 = 95,765 | V51: a
D52: -0,150*(2,000+15,500+1,000)*0,600*0,150 = -0,250 | V52: a
D53: -(0,120+0,030)*2,800*3,600 = -1,512 | V53: a
D54: -0,150*2,800*3,600 = -1,512 | V54: a
D55: -8,326 "prehodenie výkopku - obsyp potrubia" = -8,326 | V55: a
D56: "kubatúra potrubia" -3,14*0,200*0,200/4*(2,000+15,500+1,000) = -0,581 | V56: a
D57: "kubatúra žumpy" -2,800*3,600*2,000 = -20,160 | V57: a
A58: 17 | B58: 001 | C58: 17510-1101 | D58: Obsyp potrubia bez prehodenia sypaniny | E58: 8.326 | F58: m3 | H58: =ROUND(G58*E58,2) -> 0 | J58: =ROUND(I58+H58,2) -> 0 | O58: 20 | V58: E | W58: 12.156 | Z58: 45.11.21 | AB58: B
A59: 18 | B59: 272 | C59: 18110-1102 | D59: Úprava pláne v zárezoch v horn. tr. 1-4 so zhutnením | E59: 41.4 | F59: m2 | H59: =ROUND(G59*E59,2) -> 0 | J59: =ROUND(I59+H59,2) -> 0 | O59: 20 | V59: E | W59: 0.704 | Z59: 45.11.21 | AB59: B
D60: (2,000+15,500+1,000)*1,200 = 22,200 | V60: a
D61: (3,600+2*0,600)*(2,800+2*0,600) = 19,200 | V61: a
D62: . | V62: a
D63: 1 - ZEMNE PRÁCE spolu: | H63: =SUM(H14:H59) -> 0 | I63: =SUM(I14:I59) -> 0 | J63: =SUM(J14:J59) -> 0 | L63: =SUM(L14:L59) -> 0.06249 | N63: =SUM(N14:N59) -> 0 | W63: 208.061
B64: 2 - ZÁKLADY
A65: 19 | B65: 272 | C65: 21275-2112 | D65: Trativody z drenážnych rúrok DN do 100 so štrkopieskovým lôžkom a obsypom | E65: 18.5 | F65: m | H65: =ROUND(G65*E65,2) -> 0 | J65: =ROUND(I65+H65,2) -> 0 | K65: 0.23566 | L65: =ROUND(K65*E65,5) -> 4.35971 | O65: 20 | V65: E | W65: 3.682 | Z65: 45.25.21 | AB65: B
D66: (2,000+15,500+1,000) = 18,500 | V66: a
D67: 2 - ZÁKLADY spolu: | H67: =SUM(H65:H66) -> 0 | I67: =SUM(I65) -> 0 | J67: =SUM(J65) -> 0 | L67: =SUM(L65:L66) -> 4.35971 | N67: =SUM(N65) -> 0 | W67: 3.682
B68: 4 - VODOROVNÉ KONŠTRUKCIE
A69: 20 | B69: 271 | C69: 45157-3111 | D69: Lôžko pod potrubie, stoky v otvorenom výkope z piesku a štrkopiesku | E69: 3.177 | F69: m3 | H69: =ROUND(G69*E69,2) -> 0 | J69: =ROUND(I69+H69,2) -> 0 | K69: 1.89077 | L69: =ROUND(K69*E69,5) -> 6.00698 | O69: 20 | V69: E | W69: 3.851 | Z69: 45.21.41 | AB69: B
D70: 0,150*0,600*2,000 = 0,180 | V70: a
D71: 0,150*0,600*15,500 = 1,395 | V71: a
D72: 0,150*0,600*1,000 = 0,090 | V72: a
D73: 3,600*2,800*(0,120+0,030) = 1,512 | V73: a
A74: 21 | B74: 271 | C74: 45211-3112 | D74: Osadenie betónových dielcov do 100 kg | E74: 1 | F74: kus | H74: =ROUND(G74*E74,2) -> 0 | J74: =ROUND(I74+H74,2) -> 0 | O74: 20 | V74: E | W74: 0.147 | Z74: 45.21.41 | AB74: B
A75: 22 | B75: 271 | C75: 45231-1131 | D75: Podkladové dosky z betónu prostého tr. C 12/15 v otvorenom výkope pod potrubie | E75: 2.33 | F75: m3 | H75: =ROUND(G75*E75,2) -> 0 | J75: =ROUND(I75+H75,2) -> 0 | K75: 2.35435 | L75: =ROUND(K75*E75,5) -> 5.48564 | O75: 20 | V75: E | W75: 3.376 | Z75: 45.21.41 | AB75: B
D76: (3,600+2*0,250)*(2,800+2*0,250)*0,150" pod žumpu" = 2,030 | V76: a
D77: 2*1,000*1,000*0,150 = 0,300 | V77: a
D78: 4 - VODOROVNÉ KONŠTRUKCIE spolu: | H78: =SUM(H69:H75) -> 0 | I78: 0 | J78: =SUM(J69:J75) -> 0 | L78: =SUM(L69:L75) -> 11.49262 | N78: 0 | W78: 7.374
B80: 8 - RÚROVÉ VEDENIA
A81: 23 | B81: 271 | C81: 87138-3120 | D81: Montáž potrubia z kan. rúr korugovaných PVC-U v otvor. výkope do 20 % DN 200, tesnenie gum. krúžkami | E81: 18.5 | F81: m | H81: =ROUND(G81*E81,2) -> 0 | J81: =ROUND(I81+H81,2) -> 0 | K81: 1e-05 | L81: =ROUND(K81*E81,5) -> 0.00019 | O81: 20 | V81: E | W81: 1.998 | Z81: 45.21.41 | AB81: A
D82: 2,000+15,500+1,000 = 18,500 | V82: a
A83: 24 | B83: MAT | C83: 286 3N8711 | D83: Rúra kanalizačná korug. PRAGMA ID PR 200, dĺ.6m - 41 52 091 | E83: 3.37 | F83: kus | I83: =ROUND(E83*G83,2) -> 0 | J83: =ROUND(I83+H83,2) -> 0 | O83: 20 | V83: D | Z83: 25.21.22 | AA83: 41 52 091 | AB83: 2
D84: (2,0+15,5+1)/6,000*1,093 = 3,370 | V84: a
A85: 25 | B85: MAT | C85: 436 1G0321 | D85: Šachta kanalizačná EKOPROG 1000 - výška 1250 mm | E85: 1 | F85: kus | I85: =ROUND(E85*G85,2) -> 0 | J85: =ROUND(I85+H85,2) -> 0 | K85: 0.02 | L85: =ROUND(K85*E85,5) -> 0.02 | O85: 20 | V85: D | Z85: 29.24.12 | AB85: 2
A86: 26 | B86: MAT | C86: 436 1G0323 | D86: Šachta kanalizačná EKOPROG 1000 - výška 2000 mm | E86: 1 | F86: kus | I86: =ROUND(E86*G86,2) -> 0 | J86: =ROUND(I86+H86,2) -> 0 | O86: 20 | V86: D | Z86: 29.24.12 | AB86: 2
A87: 27 | B87: 271 | C87: 89210-1111 | D87: Skúška tesnosti kanalizačného potrubia DN do 200 vodou | E87: 18.5 | F87: m | H87: =ROUND(G87*E87,2) -> 0 | J87: =ROUND(I87+H87,2) -> 0 | O87: 20 | V87: E | W87: 1.48 | Z87: 45.21.41 | AB87: A
D88: (2,000+15,500+1,000) = 18,500 | V88: a
A89: 28 | B89: 271 | C89: 89261-1020 | D89: Monitoring potrubia inšpekčnou kamerou do DN 200 mm | E89: 18.5 | F89: m | H89: =ROUND(G89*E89,2) -> 0 | J89: =ROUND(I89+H89,2) -> 0 | O89: 20 | V89: E | W89: 1.11 | Z89: . . | AB89: B
D90: 2,000+15,500+1,000 = 18,500 | V90: a
A91: 29 | B91: 271 | C91: 89262-1020 | D91: Monitoring kanalizačnej šachty inšpekčnou kamerou do DN 200 mm | E91: 3.25 | F91: m | H91: =ROUND(G91*E91,2) -> 0 | J91: =ROUND(I91+H91,2) -> 0 | O91: 20 | V91: E | W91: 0.491 | Z91: . . | AB91: B
D92: 1,250+2,000 = 3,250 | V92: a
A93: 30 | B93: 271 | C93: 89410-3202 | D93: Osadenie ŽB stropu prečerpávacej stanice, hmotnosť nad 1 t | E93: 1 | F93: kus | H93: =ROUND(G93*E93,2) -> 0 | J93: =ROUND(I93+H93,2) -> 0 | O93: 20 | V93: E | W93: 0.763 | Z93: . . | AB93: A
A94: 31 | B94: 271 | C94: 89410-3302 | D94: Osadenie ŽB nádstavca alebo prstenca prečerpávacej stanice, hmotnosť do 2 t | E94: 1 | F94: kus | H94: =ROUND(G94*E94,2) -> 0 | J94: =ROUND(I94+H94,2) -> 0 | O94: 20 | V94: E | W94: 2.036 | Z94: . . | AB94: A
A95: 32 | B95: 271 | C95: 89410-3410 | D95: Osadenie akumulačnej nádrže ŽB, hmotnosť nad 4 do 10 t | E95: 1 | F95: kus | H95: =ROUND(G95*E95,2) -> 0 | J95: =ROUND(I95+H95,2) -> 0 | O95: 20 | V95: E | W95: 4.841 | Z95: . . | AB95: A
A96: 33 | B96: MAT | C96: 4361KL101 | D96: Akumulačná nádrž - KL AN 14 dĺž.3 700, šír.2400, výš.2000 mm, hr. stropnej dosky 120 mm | E96: 1 | F96: kus | I96: =ROUND(G96*E96,2) -> 0 | J96: =SUM(H96+I96) -> 0 | K96: 12.29 | L96: =ROUND(K96*E96,5) -> 12.29 | O96: 20 | V96: D | Z96: 29.24.12 | AB96: 2
A97: 34 | B97: MAT | C97: 592 241260 | D97: Skruž prechodová TBS625/9-SPK62,5/100x60x9 | E97: 1 | F97: kus | I97: =ROUND(G97*E97,2) -> 0 | J97: =SUM(H97+I97) -> 0 | K97: 0.0396 | L97: =ROUND(K97*E97,5) -> 0.0396
A98: 35 | B98: MAT | C98: 592 241370 | D98: Prstenec vyrovnávací TBS10/9 62,5x10x9 | E98: 1 | F98: kus | I98: =ROUND(G98*E98,2) -> 0 | J98: =SUM(H98+I98) -> 0 | K98: 0.046 | L98: =ROUND(K98*E98,5) -> 0.046
A99: 36 | B99: 271 | C99: 89910-4111 | D99: Osadenie poklopov liatinových, oceľových s rámom nad 150 kg | E99: 1 | F99: kus | H99: =ROUND(G99*E99,2) -> 0 | J99: =ROUND(I99+H99,2) -> 0 | K99: 0.00702 | L99: =ROUND(K99*E99,5) -> 0.00702 | O99: 20 | V99: D | Z99: 29.24.12 | AB99: 2
A100: 37 | B100: MAT | C100: 553 4G0104 | D100: Poklop liatinový DN 600, tr.záťaž.D 400 KN - 161773 | E100: 1 | F100: kus | I100: =ROUND(E100*G100,2) -> 0 | J100: =ROUND(I100+H100,2) -> 0 | K100: 0.13497 | L100: =ROUND(K100*E100,5) -> 0.13497 | O100: 20 | V100: D | Z100: 29.24.12 | AB100: 2
D101: 8 - RÚROVÉ VEDENIA spolu: | H101: =SUM(H81:H100) -> 0 | I101: =SUM(I81:I100) -> 0 | J101: =SUM(J81:J100) -> 0 | L101: =SUM(L81:L100) -> 12.53778 | N101: =SUM(N81:N100) -> 0 | W101: 47.869
B102: 9 - OSTATNÉ KONŠTRUKCIE A PRÁCE
A103: 38 | B103: 271 | C103: 99827-6101 | D103: Presun hmôt pre potrubie z rúr plastových alebo sklolaminátových v otvorenom výkope | E103: =SUM(L105) -> 28.4526 | F103: t | H103: =ROUND(G103*E103,2) -> 0 | J103: =ROUND(I103+H103,2) -> 0 | O103: 20 | V103: E | W103: 57.651 | Z103: 45.21.41 | AB103: A
...
