Workbook

Sheet NNPK
A2: Návrh na plnenie kritérií
A4: Obchodné meno:
A5: Sídlo:
A6: IČO:
A7: DIČ:
A8: Kontakt:
A9: IČ DPH:
A10: Platca DPH:
A11: V prípade, ak sa v špecifikácii jednotlivých položiek uvedených nižšie nachádza označenie konktrétneho výrobcu alebo výrobku je uchádzač oprávený naceniť ekvivalentý výrobok s rovnakými alebo lepšími parametrami.
A12: EXTERIEROVÉ VYBAVENIE
A13: P. č. | B13: Tovary | C13: MJ | D13: Počet MJ | E13: Cena celkom bez DPH v EUR | F13: Cena celkom s DPH v EUR
A14: 1 | B14: Kolotoč | C14: ks | D14: 1 | E14: =KOLOTOČ!E27 -> 0 | F14: =SUM(E14*1.2) -> 0
A15: 2 | B15: Konštrukcia na hojdačky | C15: ks | D15: 1 | E15: ='KONŠTRUKCIA NA HOJDAČKY'!E25:F25 -> 0 | F15: =SUM(E15*1.2) -> 0
A16: 3 | B16: Fitnes | C16: ks | D16: 3 | E16: =FITNESS!E25 -> 0 | F16: =SUM(E16*1.2) -> 0
A17: 4 | B17: Lavičky | C17: ks | D17: 10 | E17: =LAVIČKY!E25 -> 0 | F17: =SUM(E17*1.2) -> 0
A18: 5 | B18: Veža | C18: ks | D18: 1 | E18: =VEŽA!E27 -> 0 | F18: =SUM(E18*1.2) -> 0
A19: 6 | B19: Pružinová hojdačka - autobus | C19: ks | D19: 1 | E19: =AUTOBUS!E27 -> 0 | F19: =SUM(E19*1.2) -> 0
A20: 7 | B20: Pružinová hojdačka - autíčko | C20: ks | D20: 1 | E20: =AUTÍČKO!E27 -> 0 | F20: =SUM(E20*1.2) -> 0
A21: 8 | B21: Smetná nádoba | C21: ks | D21: 3 | E21: ='SMETNA NÁDOBA'!E21 -> 0 | F21: =SUM(E21*1.2) -> 0
B24: CENA SPOLU
B25: Cena bez DPH | C25: =SUM(E14+E15+E16+E17+E18+E19+E20+E21) -> 0
B26: DPH | C26: =SUM(C25*0.2) -> 0
B27: Cena s DPH | C27: =SUM(C25+C26) -> 0
B30: Vypracoval:
B32: Dňa:
B34: Pečiatka a podpis:

Sheet KOLOTOČ
B3: KOLOTOČ
B5: Minimálne rozmery: priemer 150 cm
B6: Maximálna výška: 80 cm
B7: Max. počet užívateľov: 6
B8: Minimálna plocha pre montáž: priemer 5,60 m
B9: Maximálna výška voľného pádu: 80 cm
B10: Doporučený vek: 3-14 rokov
B11: Povrch, tlmiaci pád: podľa normy EN 1177 - trávnik
B15: Nosná konštrukcia kolotoča kovová, ďalšie časti drevené (sedadlá). Konštrukcia nevyžaduje uložená v betónovom lôžku. Výroba a realizácia kolotoča zodpovedá bezpečnostným normám a požiadavkám podľa európskej normy EN 1176.
B23: Počet (v ks) | E23: 1
B24: Jednotková cena
B25: Cena bez DPH | E25: =SUM(E23*E24) -> 0
B26: Montáž bez DPH
B27: Cena spolu bez DPH | E27: =SUM(E25+E26) -> 0
B28: Cena spolu s DPH | E28: =SUM(E27*1.2) -> 0

Sheet KONŠTRUKCIA NA HOJDAČKY
B3: KONŠTRUKICA NA DVE HOJDAČKY
B5: Minimálne rozmery: 3.2 x 2.2 m
B6: Minimálna plocha pre montáž: 3.2 x 8.1 m
B7: Maximálna výška voľného pádu: 1.20 m
B8: Doporučený vek: 3 - 14 rokov
B9: Maximálny počet užívateľov: 2
B13: Drevené nosné prvky z dreva bez jadra s rozmerom 10 x 10 cm a upravené, tlakovo impregnované. Všetky kovové časti ošetrené práškovou farbou. Všetky viditeľné skrutky zaoblené alebo zabezpečené záslepkami. Striešky, bezpečnostné panely a steny vyrobené z HDPE dosák s hrúbkou 9 - 12 mm. Materiál neabsorbuje vodu, nevydúva a neláme sa. Konštrukcia spĺňa Europské normy EN 1176 a EN 1177.
B21: Počet (v ks) | E21: 1
B22: Jednotková cena
B23: Cena bez DPH | E23: =SUM(E21*E22) -> 0
B24: Montáž bez DPH
B25: Cena spolu bez DPH | E25: =SUM(E23+E24) -> 0
B26: Cena spolu s DPH | E26: =SUM(E25*1.2) -> 0

Sheet FITNESS
B3: OUTDOOR FITNESS - Bežec, Chodec a Točňa
B5: Minimálne rozmery: 3 x 6 m
B6: Minimálna plocha pre montáž: 5 x 8 m
B7: Maximálna výška voľného pádu: 1 m
B8: Doporučený vek: bez obmedzenia
B9: Maximálny počet užívateľov: 3
B13: Konštrukcia – pozinkovaná, galvanizovaná oceľ, priemer. Zariadenie v zmontovanom stave, vyžaduje osadenie do pevného, betónového podkladu.
B21: Počet (v ks) | E21: 3
B22: Jednotková cena
B23: Cena bez DPH | E23: =SUM(E21*E22) -> 0
B24: Montáž bez DPH
B25: Cena spolu bez DPH | E25: =SUM(E23+E24) -> 0
B26: Cena spolu s DPH | E26: =SUM(E25*1.2) -> 0

Sheet LAVIČKY
B3: LAVIČKY EXTERIÉROVÉ
B5: Minimálne rozmery: dĺžka 180 cm
B6: Minimálna plocha pre montáž: 150 x 180 cm
B13: Lavičky do exterierového prostredia. Úprava - rám kovový, zliadina, sedaldá - drevené. Povrchová úprava prírodné drevo, lakované. Konštrukcia lavičky umožňuje uchytenie do pevného podkladu.
B21: Počet (v ks) | E21: 10
B22: Jednotková cena
B23: Cena bez DPH | E23: =SUM(E21*E22) -> 0
B24: Montáž bez DPH
B25: Cena spolu bez DPH | E25: =SUM(E23+E24) -> 0
B26: Cena spolu s DPH | E26: =SUM(E25*1.2) -> 0

Sheet VEŽA
B3: ZOSTAVA VEŽA NÍZKA
B5: Minimálne rozmery: 345 x 100 cm
B6: Maximálna výška: 200 cm
B7: Bezpečnostná zóna: 695 x 400 cm.
B8: Minimálna plocha pre montáž: 400 x 200 cm
B9: Maximálna výška voľného pádu: 90 cm
B10: Doporučený vek: 3-14 rokov
B11: Povrch, tlmiaci pád: podľa normy EN 1177 - trávnik
B15: Drevené nosné prvky vyrobené z dreva bez jadra s rozmerom 10 x 10 cm, upravené pre väčšiu pevnosť a odolnosť, tlakovo impregnované. Všetky kovové časti ošetrené práškovou farbou. Všetky viditeľné skrutky zaoblené alebo zabezpečené záslepkami. Striešky, bezpečnostné panely a steny z HDPE dosák s hrúbkou 9 - 12 mm.
B23: Počet (v ks) | E23: 1
B24: Jednotková cena
B25: Cena bez DPH | E25: =SUM(E23*E24) -> 0
B26: Montáž bez DPH
B27: Cena spolu bez DPH | E27: =SUM(E25+E26) -> 0
B28: Cena spolu s DPH | E28: =SUM(E27*1.2) -> 0

Sheet AUTOBUS
B3: PRUŽINOVÁ HOJDAČKA - AUTOBUS
B5: Minimálne rozmery: 70 x 30 cm
B6: Maximálna výška: 150 cm
B7: Bezpečnostná zóna: priemer 350 cm.
B8: Minimálna plocha pre montáž: 100 x 50 cm
B9: Maximálna výška voľného pádu: 65 cm
B10: Doporučený vek: 3-14 rokov
B11: Povrch, tlmiaci pád: podľa normy EN 1177 - trávnik
B15: Základný materiál je vode odolná lepenka, impregnovaná a pokrytá niekoľkými vrstvami farieb. Používaný materiál odolný voči atmosférickým vplyvom, UV žiareniu a aktom vandalizmu. Pružiny striekané práškovou farbou a využiteľné 500 000-krát. Všetky skrutky a matice, ktoré sú používané na montáž z pozinkovanej alebo nehrdzavejúcej ocele. Kovové časti pozinkované a následne striekané práškovou farbou. Všetky kovové spoje zaliate do špeciálnej plastovej vrstvy. Pružinová hojdačka spĺňa Európske normy EN 1176 a EN 1177.
B23: Počet (v ks) | E23: 1
B24: Jednotková cena
B25: Cena bez DPH | E25: =SUM(E23*E24) -> 0
B26: Montáž bez DPH
B27: Cena spolu bez DPH | E27: =SUM(E25+E26) -> 0
B28: Cena spolu s DPH | E28: =SUM(E27*1.2) -> 0

Sheet AUTÍČKO
B3: PRUŽINOVÁ HOJDAČKA - AUTÍČKO
B5: Minimálne rozmery: 70 x 30 cm
B6: Maximálna výška: 150 cm
B7: Bezpečnostná zóna: priemer 350 cm.
B8: Minimálna plocha pre montáž: 100 x 50 cm
B9: Maximálna výška voľného pádu: 65 cm
B10: Doporučený vek: 3-14 rokov
B11: Povrch, tlmiaci pád: podľa normy EN 1177 - trávnik
B15: Základný materiál je vode odolná lepenka, impregnovaná a pokrytá niekoľkými vrstvami farieb. Používaný materiál odolný voči atmosférickým vplyvom, UV žiareniu a aktom vandalizmu. Pružiny striekané práškovou farbou a využiteľné 500 000-krát. Všetky skrutky a matice, ktoré sú používané na montáž z pozinkovanej alebo nehrdzavejúcej ocele. Kovové časti pozinkované a následne striekané práškovou farbou. Všetky kovové spoje zaliate do špeciálnej plastovej vrstvy. Pružinová hojdačka spĺňa Európske normy EN 1176 a EN 1177.
B23: Počet (v ks) | E23: 1
B24: Jednotková cena
B25: Cena bez DPH | E25: =SUM(E23*E24) -> 0
B26: Montáž bez DPH
B27: Cena spolu bez DPH | E27: =SUM(E25+E26) -> 0
B28: Cena spolu s DPH | E28: =SUM(E27*1.2) -> 0

Sheet SMETNA NÁDOBA
B3: SMETNÉ NÁDOBY
B5: Minimálny objem: 240 l
B6: Maximálna hmotnosť: 12 kg
B7: Materiál: plast
B8: Farba: zelená
B10: Smetné nádoby na odpad, psatové, vybavené kolieskami pre ľahšiu manipuláciu. Materiál nádoby plast, farba nádoby zelená. Minimálny objem 240 l, nádoba musí byť vybavená vekom.
B17: Počet (v ks) | E17: 3
B18: Jednotková cena
B19: Cena bez DPH | E19: =SUM(E17*E18) -> 0
B20: Montáž bez DPH
B21: Cena spolu bez DPH | E21: =SUM(E19+E20) -> 0
B22: Cena spolu s DPH | E22: =SUM(E21*1.2) -> 0
